Workbook
Name coprom: '[1].'!$C$15:$C$21
Name coprom: '[1].'!$C$15:$C$21
Name coprom: '[1].'!$C$15:$C$21
Name coprom: '[1].'!$C$15:$C$21
Name coprom: '[1].'!$C$15:$C$21
Name coprom: '[1].'!$C$15:$C$21
Name coprom: '[1].'!$C$15:$C$21
Name coprom: '[1].'!$C$15:$C$21
Name coprom: '[1].'!$C$15:$C$21
Name coprom: '[1].'!$C$15:$C$21
Name coprom: '[1].'!$C$15:$C$21
Name coprom: '[1].'!$C$15:$C$21
Name coprom: #REF!
Name coprom: #REF!
Name InvesteringP1: #REF!
Name InvesteringP1: #REF!
Name juli_2018: #REF!
Name juli_2018: #REF!
Name LOON1: #REF!
Name LOON1: #REF!
Name LOON2018: #REF!
Name LOON2018: #REF!
Name looncode: '[1]waarden lonen'!$A$4:$A$30
Name looncode: '[1]waarden lonen'!$A$4:$A$30
Name looncode: '[1]waarden lonen'!$A$4:$A$30
Name looncode: '[1]waarden lonen'!$A$4:$A$30
Name looncode: '[1]waarden lonen'!$A$4:$A$30
Name looncode: '[1]waarden lonen'!$A$4:$A$30
Name looncode: '[1]waarden lonen'!$A$4:$A$30
Name looncode: '[1]waarden lonen'!$A$4:$A$30
Name looncode: '[1]waarden lonen'!$A$4:$A$30
Name looncode: '[1]waarden lonen'!$A$4:$A$30
Name looncode: '[1]waarden lonen'!$A$4:$A$30
Name looncode: '[1]waarden lonen'!$A$4:$A$30
Name looncode: #REF!
Name looncode: #REF!
Name looncode1: #REF!
Name looncode1: #REF!
Name loonwijzer: '[1]waarden lonen'!$A$4:$K$30
Name loonwijzer: '[1]waarden lonen'!$A$4:$K$30
Name loonwijzer: '[1]waarden lonen'!$A$4:$K$30
Name loonwijzer: '[1]waarden lonen'!$A$4:$K$30
Name loonwijzer: '[1]waarden lonen'!$A$4:$K$30
Name loonwijzer: '[1]waarden lonen'!$A$4:$K$30
Name loonwijzer: '[1]waarden lonen'!$A$4:$K$30
Name loonwijzer: '[1]waarden lonen'!$A$4:$K$30
Name loonwijzer: '[1]waarden lonen'!$A$4:$K$30
Name loonwijzer: '[1]waarden lonen'!$A$4:$K$30
Name loonwijzer: '[1]waarden lonen'!$A$4:$K$30
Name loonwijzer: '[1]waarden lonen'!$A$4:$K$30
Name loonwijzer: #REF!
Name loonwijzer: #REF!
Name maatregelnrs: '[2]Alg overz 2006'!$A$13:$A$17
Name overzichtA1: #REF!
Name overzichtA1: #REF!
Name procedure: '[1].'!$F$2:$F$8
Name Promotor: #REF!
Name Promotor: #REF!
Name Promotoren: #REF!
Name Promotoren: #REF!

Sheet INSTRUCTIE
A1: INSTRUCTIE TIJDSREGISTRATIE
A2: 1) | B2: Vul op het tabblad START het projectnummer, werkgever, naam personeelslid en tewerkstellingspercentage in.
B3: Gebruik één document per personeelslid.
A5: 2) | B5: Geef op de dagen waarop gewerkt werd in het kader van project:
B6: ° een duidelijke omschrijving van de activiteit zodat we die activiteit rechtstreeks kunnen linken aan het project.
B7: ° de werkelijk gepresteerde uren in het kader van de activiteit in uurnotatie: vb 6:50 (6 u en 50 min gewerkt)
B8: Zijn er onvoldoende lijnen voor de activiteiten van één bepaalde dag, dan je de dag aanpassen in kolom B van een dag die geen 4 activiteiten telt. Lijnen invoegen is niet mogelijk.
A10: 3) | B10: Wijzig de naam van het bestand naar "NAAM_tijdsregistratie_2026". Bv. JanJanssen_tijdsregistratie_2026
A11: 4) | B11: Voeg het ingevulde excelbestand toe bij de bijlagen van de declaratie.
A12: 5) | B12: Op het tabblad START kan je het totaal aantal gewerkte uren vinden. Deze uren geef je in bij de declaratie bij de facturen in het plattelandsloket, samen met het voltijds brutoloon van het personeelslid.
C13: Per document geef je één lijn in het plattelandsloket in. Bij de factuurdatum vul je de datum van de eerste maand in, bij het selecteren van de kostencategorie "personeelskosten" krijg je ook de mogelijkheid om de laatste datum = "periode einde" in te vullen. Het is belangrijk dat je het voltijds brutoloon invult en daaronder de som van de uren die je vindt op het tabblad "START"
A14: 6) | B14: Tabblad SUT geeft de totale personeelskost weer als je werkt met een loonfiche, deze berekening moet gelijk zijn aan de berekening in het plattelandsloket. Deze gegevens moet je ook invullen in het loket als je met een loonfiche werkt.
A15: 7) | B15: Tabblad VUT geeft de totale personeelskost weer als je werkt met het vast uurtarief, deze berekening moet gelijk zijn aan de berekening in het plattelandsloket. Deze gegevens moet je ook invullen als je met een vast uurtarief werkt. Het tabblad VUT wordt enkel gebruikt voor eigenaars van kmo's die geen loonfiche hebben
A17: 8) | B17: Wat geef je in het plattelandsloket in?
C18: Per document geef je één lijn in het plattelandsloket in. Bij de factuurdatum vul je de datum van de eerste maand in, bij het selecteren van de kostencategorie "personeelskosten" krijg je ook de mogelijkheid om de laatste datum = "periode einde" in te vullen. Beide data moeten in hetzelfde kalenderjaar liggen. Indien je over verschillende kalenderjaren wilt indienen moet je 2 lijnen gebruiken. Je vult de andere vakken in. Rechts kies je SUT of VUT (meer uitleg vind je hierboven). Je vult het voltijds brutoloon in. ( Indien je het tabblad SUT in deze excel hebt ingevuld kan je dit hieruit overnemen) Daaronder vul je de som van de uren in die je vindt op het tabblad "START" in het formaat uren:min vb 2 u wordt ingevuld als 2:00
A20: Niet subsidiabele personeelskosten:
B21: loonkosten voor loutere supervisie
B22: uitgaven voor extralegale voordelen als groepsverzekeringen, extralegaal pensioen, hospitalisatieverzekering, …
B23: beroepskleding, verzekering burgerlijke aansprakelijkheid
B24: kosten voor aanwerving
B25: ontslagvergoeding, opzegvergoeding

Sheet START
A1: PROJECTNUMMER:
A2: WERKGEVER:
A3: NAAM PERSONEELSLID:
A4: TEWERKSTELLINGSPERCENTAGE:
B6: 1 2026 | C6: ='tijdsregist 01 2026'!G131+'tijdsregist 01 2026'!F131+'tijdsregist 01 2026'!E131 -> 0 | D6: uu:mm:ss
B7: 2 2026 | C7: ='tijdsregist 02 2026'!E119+'tijdsregist 02 2026'!F119+'tijdsregist 02 2026'!G119 -> 0 | D7: uu:mm:ss
B8: 3 2026 | C8: ='tijdsregist 03 2026'!E131+'tijdsregist 03 2026'!F131+'tijdsregist 03 2026'!G131 -> 0 | D8: uu:mm:ss
B9: 4 2026 | C9: ='tijdsregist 04 2026'!E127+'tijdsregist 04 2026'!F127+'tijdsregist 04 2026'!G127 -> 0 | D9: uu:mm:ss
B10: 5 2026 | C10: ='tijdsregist 05 2026'!E131+'tijdsregist 05 2026'!F131+'tijdsregist 05 2026'!G131 -> 0 | D10: uu:mm:ss
B11: 6 2026 | C11: ='tijdsregist 06 2026'!E127+'tijdsregist 06 2026'!F127+'tijdsregist 06 2026'!G127 -> 0 | D11: uu:mm:ss
B12: 7 2026 | C12: ='tijdsregist 07 2026'!E131+'tijdsregist 07 2026'!F131+'tijdsregist 07 2026'!G131 -> 0 | D12: uu:mm:ss
B13: 8 2026 | C13: ='tijdsregist 08 2026'!E131+'tijdsregist 08 2026'!F131+'tijdsregist 08 2026'!G131 -> 0 | D13: uu:mm:ss
B14: 9 2026 | C14: ='tijdsregist 09 2026'!E127+'tijdsregist 09 2026'!F127+'tijdsregist 09 2026'!G127 -> 0 | D14: uu:mm:ss
B15: 10 2026 | C15: ='tijdsregist 10 2026'!E131+'tijdsregist 10 2026'!F131+'tijdsregist 10 2026'!G131 -> 0 | D15: uu:mm:ss
B16: 11 2026 | C16: ='tijdsregist 11 2026'!E127+'tijdsregist 11 2026'!F127+'tijdsregist 11 2026'!G127 -> 0 | D16: uu:mm:ss
B17: 12 2026 | C17: ='tijdsregist 12 2026'!E131+'tijdsregist 12 2026'!F131+'tijdsregist 12 2026'!G131 -> 0 | D17: uu:mm:ss
B18: TOTAAL | C18: =SUM(C6:C17) -> 0 | D18: uu:mm:ss

Sheet SUT
A1: Werkgever | B1: personeelslid | D1: jaar | E1: Brutoloon | F1: tewerkstellingspercentage | G1: Brutoloon verrekekend naar 100% | H1: SUT (brutoloon *1,2%) | I1: aantal gewerkte uren | J1: omrekening | K1: in te brengen personeelskost
D2: 2026 | E2: 3500 | F2: 0.5 | G2: =$E2*1/$F2 -> 7000 | H2: =ROUND($G2*0.012,2) -> 84 | I2: 0.041666667 | J2: =I2*24 -> 1 | K2: =H2*J2 -> 84 | M2: Voorbeeldlijn mag je op 0 zetten
A4: =START!$B$2 -> 0 | B4: =START!$B$3 -> 0 | C4: januari | D4: 2026 | F4: =START!$B$4 -> 0 | G4: =$E4*1/$F4 -> #DIV/0! | H4: =ROUND($G4*0.012,6) -> #DIV/0! | I4: =START!C6 -> 0 | J4: =I4*24 -> 0 | K4: =IF(E4>0,H4*J4,0) -> 0 | M4: licht groene cellen manueel invullen
A5: =START!$B$2 -> 0 | B5: =START!$B$3 -> 0 | C5: februari | D5: 2026 | F5: =START!$B$4 -> 0 | G5: =$E5*1/$F5 -> #DIV/0! | H5: =ROUND($G5*0.012,6) -> #DIV/0! | I5: =START!C7 -> 0 | J5: =I5*24 -> 0 | K5: =IF(E5>0,H5*J5,0) -> 0
A6: =START!$B$2 -> 0 | B6: =START!$B$3 -> 0 | C6: maart | D6: 2026 | F6: =START!$B$4 -> 0 | G6: =$E6*1/$F6 -> #DIV/0! | H6: =ROUND($G6*0.012,6) -> #DIV/0! | I6: =START!C8 -> 0 | J6: =I6*24 -> 0 | K6: =IF(E6>0,H6*J6,0) -> 0
A7: =START!$B$2 -> 0 | B7: =START!$B$3 -> 0 | C7: april | D7: 2026 | F7: =START!$B$4 -> 0 | G7: =$E7*1/$F7 -> #DIV/0! | H7: =ROUND($G7*0.012,6) -> #DIV/0! | I7: =START!C9 -> 0 | J7: =I7*24 -> 0 | K7: =IF(E7>0,H7*J7,0) -> 0
A8: =START!$B$2 -> 0 | B8: =START!$B$3 -> 0 | C8: mei | D8: 2026 | F8: =START!$B$4 -> 0 | G8: =$E8*1/$F8 -> #DIV/0! | H8: =ROUND($G8*0.012,6) -> #DIV/0! | I8: =START!C10 -> 0 | J8: =I8*24 -> 0 | K8: =IF(E8>0,H8*J8,0) -> 0
A9: =START!$B$2 -> 0 | B9: =START!$B$3 -> 0 | C9: juni | D9: 2026 | F9: =START!$B$4 -> 0 | G9: =$E9*1/$F9 -> #DIV/0! | H9: =ROUND($G9*0.012,6) -> #DIV/0! | I9: =START!C11 -> 0 | J9: =I9*24 -> 0 | K9: =IF(E9>0,H9*J9,0) -> 0
A10: =START!$B$2 -> 0 | B10: =START!$B$3 -> 0 | C10: juli | D10: 2026 | F10: =START!$B$4 -> 0 | G10: =$E10*1/$F10 -> #DIV/0! | H10: =ROUND($G10*0.012,6) -> #DIV/0! | I10: =START!C12 -> 0 | J10: =I10*24 -> 0 | K10: =IF(E10>0,H10*J10,0) -> 0
A11: =START!$B$2 -> 0 | B11: =START!$B$3 -> 0 | C11: augustus | D11: 2026 | F11: =START!$B$4 -> 0 | G11: =$E11*1/$F11 -> #DIV/0! | H11: =ROUND($G11*0.012,6) -> #DIV/0! | I11: =START!C13 -> 0 | J11: =I11*24 -> 0 | K11: =IF(E11>0,H11*J11,0) -> 0
A12: =START!$B$2 -> 0 | B12: =START!$B$3 -> 0 | C12: september | D12: 2026 | F12: =START!$B$4 -> 0 | G12: =$E12*1/$F12 -> #DIV/0! | H12: =ROUND($G12*0.012,6) -> #DIV/0! | I12: =START!C14 -> 0 | J12: =I12*24 -> 0 | K12: =IF(E12>0,H12*J12,0) -> 0
A13: =START!$B$2 -> 0 | B13: =START!$B$3 -> 0 | C13: oktober | D13: 2026 | F13: =START!$B$4 -> 0 | G13: =$E13*1/$F13 -> #DIV/0! | H13: =ROUND($G13*0.012,6) -> #DIV/0! | I13: =START!C15 -> 0 | J13: =I13*24 -> 0 | K13: =IF(E13>0,H13*J13,0) -> 0
A14: =START!$B$2 -> 0 | B14: =START!$B$3 -> 0 | C14: november | D14: 2026 | F14: =START!$B$4 -> 0 | G14: =$E14*1/$F14 -> #DIV/0! | H14: =ROUND($G14*0.012,6) -> #DIV/0! | I14: =START!C16 -> 0 | J14: =I14*24 -> 0 | K14: =IF(E14>0,H14*J14,0) -> 0
A15: =START!$B$2 -> 0 | B15: =START!$B$3 -> 0 | C15: december | D15: 2026 | F15: =START!$B$4 -> 0 | G15: =$E15*1/$F15 -> #DIV/0! | H15: =ROUND($G15*0.012,6) -> #DIV/0! | I15: =START!C17 -> 0 | J15: =I15*24 -> 0 | K15: =IF(E15>0,H15*J15,0) -> 0
I16: =SUM(I4:I15) -> 0 | J16: =SUM(J4:J15) -> 0 | K16: =SUM(K4:K15) -> 0
B21: Dit hoef je in principe niet meer in te vullen, je kan op het tabblad "START" ook de uren vinden die je kan gebruiken voor in het plattelandsloket.
B22: Deze zaken moet je invullen in het plattelandsloket.

Sheet VUT
A1: werkgever | B1: personeelslid | D1: jaar | E1: VUT | F1: aantal gewerkte uren | G1: omrekening | H1: in te brengen personeelskost
D2: 2026 | E2: 59.49 | F2: 4.5833333 | G2: =F2*24 -> 110 | H2: =E2*G2 -> 6543.9 | J2: Voorbeeldlijn
A4: =START!B2 -> 0 | B4: =START!B3 -> 0 | C4: januari | D4: 2026 | E4: 59.49 | F4: =START!C6 -> 0 | G4: =F4*24 -> 0 | H4: =E4*G4 -> 0
C5: februari | D5: 2026 | E5: 59.49 | F5: =START!C7 -> 0 | G5: =F5*24 -> 0 | H5: =E5*G5 -> 0
C6: maart | D6: 2026 | E6: 59.49 | F6: =START!C8 -> 0 | G6: =F6*24 -> 0 | H6: =E6*G6 -> 0
C7: april | D7: 2026 | E7: 59.49 | F7: =START!C9 -> 0 | G7: =F7*24 -> 0 | H7: =E7*G7 -> 0
C8: mei | D8: 2026 | E8: 59.49 | F8: =START!C10 -> 0 | G8: =F8*24 -> 0 | H8: =E8*G8 -> 0
C9: juni | D9: 2026 | E9: 59.49 | F9: =START!C11 -> 0 | G9: =F9*24 -> 0 | H9: =E9*G9 -> 0
C10: juli | D10: 2026 | E10: 59.49 | F10: =START!C12 -> 0 | G10: =F10*24 -> 0 | H10: =E10*G10 -> 0
C11: augustus | D11: 2026 | E11: 59.49 | F11: =START!C13 -> 0 | G11: =F11*24 -> 0 | H11: =E11*G11 -> 0
C12: september | D12: 2026 | E12: 59.49 | F12: =START!C14 -> 0 | G12: =F12*24 -> 0 | H12: =E12*G12 -> 0
C13: oktober | D13: 2026 | E13: 59.49 | F13: =START!C15 -> 0 | G13: =F13*24 -> 0 | H13: =E13*G13 -> 0
C14: november | D14: 2026 | E14: 59.49 | F14: =START!C16 -> 0 | G14: =F14*24 -> 0 | H14: =E14*G14 -> 0
C15: december | D15: 2026 | E15: 59.49 | F15: =START!C17 -> 0 | G15: =F15*24 -> 0 | H15: =E15*G15 -> 0
F16: =SUM(F4:F15) -> 0 | G16: TOTAAL | H16: =SUM(H4:H15) -> 0
A18: Dit hoef je in principe niet meer in te vullen, je kan op het tabblad "START" ook de uren vinden die je kan gebruiken voor in het plattelandsloket.
A19: Deze zaken moet je invullen in het plattelandsloket.

Sheet tijdsregist 01 2026
A3: Voor de berekening van de totale loonkosten is een tijdsregistratie uitgedrukt in werkuren nodig. De wettelijke maxima bedragen 11 uren per dag en 50 uren per week. Overuren zijn niet subsidiabel.
A5: Omschrijving werkzaamheden per activiteit invullen | B5: dag | C5: maand | D5: jaartal | E5: gewerkte uren Project1 (formaat uu:mm) | F5: gewerkte uren Project2(formaat uu:mm) | G5: gewerkte uren Project3 (formaat uu:mm)
A6: Projectnaam:
B7: 1 | C7: 1 | D7: 2026 | E7: 0 | F7: 0 | G7: 0 | H7: =DATE(D7,C7,B7) -> 46023 | I7: =WEEKNUM(H7,21) -> 1
B8: 1 | C8: 1 | D8: 2026 | E8: 0 | F8: 0 | G8: 0 | H8: =DATE(D8,C8,B8) -> 46023 | I8: =WEEKNUM(H8,2) -> 1
B9: 1 | C9: 1 | D9: 2026 | E9: 0 | F9: 0 | G9: 0 | H9: =DATE(D9,C9,B9) -> 46023 | I9: =WEEKNUM(H9,2) -> 1
B10: 1 | C10: 1 | D10: 2026 | E10: 0 | F10: 0 | G10: 0 | H10: =DATE(D10,C10,B10) -> 46023 | I10: =WEEKNUM(H10,2) -> 1
B11: 2 | C11: 1 | D11: 2026 | E11: 0 | F11: 0 | G11: 0 | H11: =DATE(D11,C11,B11) -> 46024 | I11: =WEEKNUM(H11,2) -> 1
B12: 2 | C12: 1 | D12: 2026 | E12: 0 | F12: 0 | G12: 0 | H12: =DATE(D12,C12,B12) -> 46024 | I12: =WEEKNUM(H12,2) -> 1
B13: 2 | C13: 1 | D13: 2026 | E13: 0 | F13: 0 | G13: 0 | H13: =DATE(D13,C13,B13) -> 46024 | I13: =WEEKNUM(H13,2) -> 1
B14: 2 | C14: 1 | D14: 2026 | E14: 0 | F14: 0 | G14: 0 | H14: =DATE(D14,C14,B14) -> 46024 | I14: =WEEKNUM(H14,2) -> 1
B15: 3 | C15: 1 | D15: 2026 | E15: 0 | F15: 0 | G15: 0 | H15: =DATE(D15,C15,B15) -> 46025 | I15: =WEEKNUM(H15,2) -> 1
B16: 3 | C16: 1 | D16: 2026 | E16: 0 | F16: 0 | G16: 0 | H16: =DATE(D16,C16,B16) -> 46025 | I16: =WEEKNUM(H16,2) -> 1
B17: 3 | C17: 1 | D17: 2026 | E17: 0 | F17: 0 | G17: 0 | H17: =DATE(D17,C17,B17) -> 46025 | I17: =WEEKNUM(H17,2) -> 1
B18: 3 | C18: 1 | D18: 2026 | E18: 0 | F18: 0 | G18: 0 | H18: =DATE(D18,C18,B18) -> 46025 | I18: =WEEKNUM(H18,2) -> 1
B19: 4 | C19: 1 | D19: 2026 | E19: 0 | F19: 0 | G19: 0 | H19: =DATE(D19,C19,B19) -> 46026 | I19: =WEEKNUM(H19,2) -> 1
... B130: 31 | C130: 1 | D130: 2026 | E130: 0 | F130: 0 | G130: 0 | H130: =DATE(D130,C130,B130) -> 46053 | I130: =WEEKNUM(H130,2) -> 5
A131: Totaal aantal gewerkte uren voor deze maand | E131: =SUM(E7:E130) -> 0 | F131: =SUM(F7:F130) -> 0 | G131: =SUM(G7:G130) -> 0
A135: Controle maximale uren per week (50u/week) | C135: Controle maximale uren per dag
A136: 1 | B136: =SUMIF($I$7:$I$130,A136,$G$7:$G$130)+SUMIF($I$7:$I$130,A136,$F$7:$F$130)+SUMIF($I$7:$I$130,A136,$E$7:$E$130) -> 0 | C136: 1 | D136: =SUMIF($B$7:$B$130,C136,$G$7:$G$130)+SUMIF($B$7:$B$130,C136,$F$7:$F$130)+SUMIF($B$7:$B$130,C136,$E$7:$E$130) -> 0
A137: 2 | B137: =SUMIF($I$7:$I$130,A137,$G$7:$G$130)+SUMIF($I$7:$I$130,A137,$F$7:$F$130)+SUMIF($I$7:$I$130,A137,$E$7:$E$130) -> 0 | C137: 2 | D137: =SUMIF($B$7:$B$130,C137,$G$7:$G$130)+SUMIF($B$7:$B$130,C137,$F$7:$F$130)+SUMIF($B$7:$B$130,C137,$E$7:$E$130) -> 0
A138: 3 | B138: =SUMIF($I$7:$I$130,A138,$G$7:$G$130)+SUMIF($I$7:$I$130,A138,$F$7:$F$130)+SUMIF($I$7:$I$130,A138,$E$7:$E$130) -> 0 | C138: 3 | D138: =SUMIF($B$7:$B$130,C138,$G$7:$G$130)+SUMIF($B$7:$B$130,C138,$F$7:$F$130)+SUMIF($B$7:$B$130,C138,$E$7:$E$130) -> 0
A139: 4 | B139: =SUMIF($I$7:$I$130,A139,$G$7:$G$130)+SUMIF($I$7:$I$130,A139,$F$7:$F$130)+SUMIF($I$7:$I$130,A139,$E$7:$E$130) -> 0 | C139: 4 | D139: =SUMIF($B$7:$B$130,C139,$G$7:$G$130)+SUMIF($B$7:$B$130,C139,$F$7:$F$130)+SUMIF($B$7:$B$130,C139,$E$7:$E$130) -> 0
A140: 5 | B140: =SUMIF($I$7:$I$130,A140,$G$7:$G$130)+SUMIF($I$7:$I$130,A140,$F$7:$F$130)+SUMIF($I$7:$I$130,A140,$E$7:$E$130)+SUMIF('tijdsregist 02 2026'!I7:I118,'tijdsregist 01 2026'!A140,'tijdsregist 02 2026'!E7:E118)+SUMIF('tijdsregist 02 2026'!I7:I118,'tijdsregist 01 2026'!A140,'tijdsregist 02 2026'!F7:F118)+SUMIF('tijdsregist 02 2026'!I7:I118,'tijdsregist 01 2026'!A140,'tijdsregist 02 2026'!G7:G118) -> 0 | C140: 5 | D140: =SUMIF($B$7:$B$130,C140,$G$7:$G$130)+SUMIF($B$7:$B$130,C140,$F$7:$F$130)+SUMIF($B$7:$B$130,C140,$E$7:$E$130) -> 0
C141: 6 | D141: =SUMIF($B$7:$B$130,C141,$G$7:$G$130)+SUMIF($B$7:$B$130,C141,$F$7:$F$130)+SUMIF($B$7:$B$130,C141,$E$7:$E$130) -> 0
C142: 7 | D142: =SUMIF($B$7:$B$130,C142,$G$7:$G$130)+SUMIF($B$7:$B$130,C142,$F$7:$F$130)+SUMIF($B$7:$B$130,C142,$E$7:$E$130) -> 0
C143: 8 | D143: =SUMIF($B$7:$B$130,C143,$G$7:$G$130)+SUMIF($B$7:$B$130,C143,$F$7:$F$130)+SUMIF($B$7:$B$130,C143,$E$7:$E$130) -> 0
C144: 9 | D144: =SUMIF($B$7:$B$130,C144,$G$7:$G$130)+SUMIF($B$7:$B$130,C144,$F$7:$F$130)+SUMIF($B$7:$B$130,C144,$E$7:$E$130) -> 0
C145: 10 | D145: =SUMIF($B$7:$B$130,C145,$G$7:$G$130)+SUMIF($B$7:$B$130,C145,$F$7:$F$130)+SUMIF($B$7:$B$130,C145,$E$7:$E$130) -> 0
C146: 11 | D146: =SUMIF($B$7:$B$130,C146,$G$7:$G$130)+SUMIF($B$7:$B$130,C146,$F$7:$F$130)+SUMIF($B$7:$B$130,C146,$E$7:$E$130) -> 0
C147: 12 | D147: =SUMIF($B$7:$B$130,C147,$G$7:$G$130)+SUMIF($B$7:$B$130,C147,$F$7:$F$130)+SUMIF($B$7:$B$130,C147,$E$7:$E$130) -> 0
C148: 13 | D148: =SUMIF($B$7:$B$130,C148,$G$7:$G$130)+SUMIF($B$7:$B$130,C148,$F$7:$F$130)+SUMIF($B$7:$B$130,C148,$E$7:$E$130) -> 0
C149: 14 | D149: =SUMIF($B$7:$B$130,C149,$G$7:$G$130)+SUMIF($B$7:$B$130,C149,$F$7:$F$130)+SUMIF($B$7:$B$130,C149,$E$7:$E$130) -> 0
C150: 15 | D150: =SUMIF($B$7:$B$130,C150,$G$7:$G$130)+SUMIF($B$7:$B$130,C150,$F$7:$F$130)+SUMIF($B$7:$B$130,C150,$E$7:$E$130) -> 0
C151: 16 | D151: =SUMIF($B$7:$B$130,C151,$G$7:$G$130)+SUMIF($B$7:$B$130,C151,$F$7:$F$130)+SUMIF($B$7:$B$130,C151,$E$7:$E$130) -> 0
C152: 17 | D152: =SUMIF($B$7:$B$130,C152,$G$7:$G$130)+SUMIF($B$7:$B$130,C152,$F$7:$F$130)+SUMIF($B$7:$B$130,C152,$E$7:$E$130) -> 0
... C166: 31 | D166: =SUMIF($B$7:$B$130,C166,$G$7:$G$130)+SUMIF($B$7:$B$130,C166,$F$7:$F$130)+SUMIF($B$7:$B$130,C166,$E$7:$E$130) -> 0

Sheet tijdsregist 02 2026
A3: Voor de berekening van de totale loonkosten is een tijdsregistratie uitgedrukt in werkuren nodig. De wettelijke maxima bedragen 11 uren per dag en 50 uren per week. Overuren zijn niet subsidiabel.
A5: Omschrijving werkzaamheden per activiteit invullen | B5: dag | C5: maand | D5: jaartal | E5: gewerkte uren Project1 (formaat uu:mm) | F5: gewerkte uren Project2(formaat uu:mm) | G5: gewerkte uren Project3 (formaat uu:mm)
A6: Projectnaam:
B7: 1 | C7: 2 | D7: 2026 | E7: 0 | F7: 0 | G7: 0 | H7: =DATE(D7,C7,B7) -> 46054 | I7: =WEEKNUM(H7,21) -> 5
B8: 1 | C8: 2 | D8: 2026 | E8: 0 | F8: 0 | G8: 0 | H8: =DATE(D8,C8,B8) -> 46054 | I8: =WEEKNUM(H8,2) -> 5
B9: 1 | C9: 2 | D9: 2026 | E9: 0 | F9: 0 | G9: 0 | H9: =DATE(D9,C9,B9) -> 46054 | I9: =WEEKNUM(H9,2) -> 5
B10: 1 | C10: 2 | D10: 2026 | E10: 0 | F10: 0 | G10: 0 | H10: =DATE(D10,C10,B10) -> 46054 | I10: =WEEKNUM(H10,2) -> 5
B11: 2 | C11: 2 | D11: 2026 | E11: 0 | F11: 0 | G11: 0 | H11: =DATE(D11,C11,B11) -> 46055 | I11: =WEEKNUM(H11,2) -> 6
B12: 2 | C12: 2 | D12: 2026 | E12: 0 | F12: 0 | G12: 0 | H12: =DATE(D12,C12,B12) -> 46055 | I12: =WEEKNUM(H12,2) -> 6
B13: 2 | C13: 2 | D13: 2026 | E13: 0 | F13: 0 | G13: 0 | H13: =DATE(D13,C13,B13) -> 46055 | I13: =WEEKNUM(H13,2) -> 6
B14: 2 | C14: 2 | D14: 2026 | E14: 0 | F14: 0 | G14: 0 | H14: =DATE(D14,C14,B14) -> 46055 | I14: =WEEKNUM(H14,2) -> 6
B15: 3 | C15: 2 | D15: 2026 | E15: 0 | F15: 0 | G15: 0 | H15: =DATE(D15,C15,B15) -> 46056 | I15: =WEEKNUM(H15,2) -> 6
B16: 3 | C16: 2 | D16: 2026 | E16: 0 | F16: 0 | G16: 0 | H16: =DATE(D16,C16,B16) -> 46056 | I16: =WEEKNUM(H16,2) -> 6
B17: 3 | C17: 2 | D17: 2026 | E17: 0 | F17: 0 | G17: 0 | H17: =DATE(D17,C17,B17) -> 46056 | I17: =WEEKNUM(H17,2) -> 6
B18: 3 | C18: 2 | D18: 2026 | E18: 0 | F18: 0 | G18: 0 | H18: =DATE(D18,C18,B18) -> 46056 | I18: =WEEKNUM(H18,2) -> 6
B19: 4 | C19: 2 | D19: 2026 | E19: 0 | F19: 0 | G19: 0 | H19: =DATE(D19,C19,B19) -> 46057 | I19: =WEEKNUM(H19,2) -> 6
... B118: 28 | C118: 2 | D118: 2026 | E118: 0 | F118: 0 | G118: 0 | H118: =DATE(D118,C118,B118) -> 46081 | I118: =WEEKNUM(H118,2) -> 9
A119: Totaal aantal gewerkte uren voor deze maand | E119: =SUM(E7:E118) -> 0 | F119: =SUM(F7:F118) -> 0 | G119: =SUM(G7:G118) -> 0
A123: Controle maximale uren per week (50u/week) | C123: Controle maximale uren per dag
A124: =I7 -> 5 | B124: =SUMIF($I$7:$I$118,A124,$G$7:$G$118)+SUMIF($I$7:$I$118,A124,$F$7:$F$118)+SUMIF($I$7:$I$118,A124,$E$7:$E$118)+SUMIF('tijdsregist 01 2026'!I7:I130,'tijdsregist 02 2026'!A124,'tijdsregist 01 2026'!E7:E130)+SUMIF('tijdsregist 01 2026'!I7:I130,'tijdsregist 02 2026'!A124,'tijdsregist 01 2026'!F7:F130)+SUMIF('tijdsregist 01 2026'!I7:I130,'tijdsregist 02 2026'!A124,'tijdsregist 01 2026'!G7:G130) -> 0 | C124: 1 | D124: =SUMIF($B$7:$B$118,C124,$G$7:$G$118)+SUMIF($B$7:$B$118,C124,$F$7:$F$118)+SUMIF($B$7:$B$118,C124,$E$7:$E$118) -> 0
A125: =A124+1 -> 6 | B125: =SUMIF($I$7:$I$118,A125,$G$7:$G$118)+SUMIF($I$7:$I$118,A125,$F$7:$F$118)+SUMIF($I$7:$I$118,A125,$E$7:$E$118) -> 0 | C125: 2 | D125: =SUMIF($B$7:$B$118,C125,$G$7:$G$118)+SUMIF($B$7:$B$118,C125,$F$7:$F$118)+SUMIF($B$7:$B$118,C125,$E$7:$E$118) -> 0
A126: =A125+1 -> 7 | B126: =SUMIF($I$7:$I$118,A126,$G$7:$G$118)+SUMIF($I$7:$I$118,A126,$F$7:$F$118)+SUMIF($I$7:$I$118,A126,$E$7:$E$118) -> 0 | C126: 3 | D126: =SUMIF($B$7:$B$118,C126,$G$7:$G$118)+SUMIF($B$7:$B$118,C126,$F$7:$F$118)+SUMIF($B$7:$B$118,C126,$E$7:$E$118) -> 0
A127: =A126+1 -> 8 | B127: =SUMIF($I$7:$I$118,A127,$G$7:$G$118)+SUMIF($I$7:$I$118,A127,$F$7:$F$118)+SUMIF($I$7:$I$118,A127,$E$7:$E$118) -> 0 | C127: 4 | D127: =SUMIF($B$7:$B$118,C127,$G$7:$G$118)+SUMIF($B$7:$B$118,C127,$F$7:$F$118)+SUMIF($B$7:$B$118,C127,$E$7:$E$118) -> 0
A128: =A127+1 -> 9 | B128: =SUMIF($I$7:$I$118,A128,$G$7:$G$118)+SUMIF($I$7:$I$118,A128,$E$7:$E$118)+SUMIF($I$7:$I$118,A128,$F$7:$F$118)+SUMIF('tijdsregist 03 2026'!I7:I130,'tijdsregist 02 2026'!A128,'tijdsregist 03 2026'!E7:E130)+SUMIF('tijdsregist 03 2026'!I7:I130,'tijdsregist 02 2026'!A128,'tijdsregist 03 2026'!F7:F130)+SUMIF('tijdsregist 03 2026'!I7:I130,'tijdsregist 02 2026'!A128,'tijdsregist 03 2026'!G7:G130) -> 0 | C128: 5 | D128: =SUMIF($B$7:$B$118,C128,$G$7:$G$118)+SUMIF($B$7:$B$118,C128,$F$7:$F$118)+SUMIF($B$7:$B$118,C128,$E$7:$E$118) -> 0
C129: 6 | D129: =SUMIF($B$7:$B$118,C129,$G$7:$G$118)+SUMIF($B$7:$B$118,C129,$F$7:$F$118)+SUMIF($B$7:$B$118,C129,$E$7:$E$118) -> 0
C130: 7 | D130: =SUMIF($B$7:$B$118,C130,$G$7:$G$118)+SUMIF($B$7:$B$118,C130,$F$7:$F$118)+SUMIF($B$7:$B$118,C130,$E$7:$E$118) -> 0
C131: 8 | D131: =SUMIF($B$7:$B$118,C131,$G$7:$G$118)+SUMIF($B$7:$B$118,C131,$F$7:$F$118)+SUMIF($B$7:$B$118,C131,$E$7:$E$118) -> 0
C132: 9 | D132: =SUMIF($B$7:$B$118,C132,$G$7:$G$118)+SUMIF($B$7:$B$118,C132,$F$7:$F$118)+SUMIF($B$7:$B$118,C132,$E$7:$E$118) -> 0
C133: 10 | D133: =SUMIF($B$7:$B$118,C133,$G$7:$G$118)+SUMIF($B$7:$B$118,C133,$F$7:$F$118)+SUMIF($B$7:$B$118,C133,$E$7:$E$118) -> 0
C134: 11 | D134: =SUMIF($B$7:$B$118,C134,$G$7:$G$118)+SUMIF($B$7:$B$118,C134,$F$7:$F$118)+SUMIF($B$7:$B$118,C134,$E$7:$E$118) -> 0
C135: 12 | D135: =SUMIF($B$7:$B$118,C135,$G$7:$G$118)+SUMIF($B$7:$B$118,C135,$F$7:$F$118)+SUMIF($B$7:$B$118,C135,$E$7:$E$118) -> 0
C136: 13 | D136: =SUMIF($B$7:$B$118,C136,$G$7:$G$118)+SUMIF($B$7:$B$118,C136,$F$7:$F$118)+SUMIF($B$7:$B$118,C136,$E$7:$E$118) -> 0
C137: 14 | D137: =SUMIF($B$7:$B$118,C137,$G$7:$G$118)+SUMIF($B$7:$B$118,C137,$F$7:$F$118)+SUMIF($B$7:$B$118,C137,$E$7:$E$118) -> 0
C138: 15 | D138: =SUMIF($B$7:$B$118,C138,$G$7:$G$118)+SUMIF($B$7:$B$118,C138,$F$7:$F$118)+SUMIF($B$7:$B$118,C138,$E$7:$E$118) -> 0
C139: 16 | D139: =SUMIF($B$7:$B$118,C139,$G$7:$G$118)+SUMIF($B$7:$B$118,C139,$F$7:$F$118)+SUMIF($B$7:$B$118,C139,$E$7:$E$118) -> 0
C140: 17 | D140: =SUMIF($B$7:$B$118,C140,$G$7:$G$118)+SUMIF($B$7:$B$118,C140,$F$7:$F$118)+SUMIF($B$7:$B$118,C140,$E$7:$E$118) -> 0
... C154: 31 | D154: =SUMIF($B$7:$B$118,C154,$G$7:$G$118)+SUMIF($B$7:$B$118,C154,$F$7:$F$118)+SUMIF($B$7:$B$118,C154,$E$7:$E$118) -> 0

Sheet tijdsregist 03 2026
A3: Voor de berekening van de totale loonkosten is een tijdsregistratie uitgedrukt in werkuren nodig. De wettelijke maxima bedragen 11 uren per dag en 50 uren per week. Overuren zijn niet subsidiabel.
A5: Omschrijving werkzaamheden per activiteit invullen | B5: dag | C5: maand | D5: jaartal | E5: gewerkte uren Project1 (formaat uu:mm) | F5: gewerkte uren Project2(formaat uu:mm) | G5: gewerkte uren Project3 (formaat uu:mm)
A6: Projectnaam:
B7: 1 | C7: 3 | D7: 2026 | E7: 0 | F7: 0 | G7: 0 | H7: =DATE(D7,C7,B7) -> 46082 | I7: =WEEKNUM(H7,21) -> 9
B8: 1 | C8: 3 | D8: 2026 | E8: 0 | F8: 0 | G8: 0 | H8: =DATE(D8,C8,B8) -> 46082 | I8: =WEEKNUM(H8,2) -> 9
B9: 1 | C9: 3 | D9: 2026 | E9: 0 | F9: 0 | G9: 0 | H9: =DATE(D9,C9,B9) -> 46082 | I9: =WEEKNUM(H9,2) -> 9
B10: 1 | C10: 3 | D10: 2026 | E10: 0 | F10: 0 | G10: 0 | H10: =DATE(D10,C10,B10) -> 46082 | I10: =WEEKNUM(H10,2) -> 9
B11: 2 | C11: 3 | D11: 2026 | E11: 0 | F11: 0 | G11: 0 | H11: =DATE(D11,C11,B11) -> 46083 | I11: =WEEKNUM(H11,2) -> 10
B12: 2 | C12: 3 | D12: 2026 | E12: 0 | F12: 0 | G12: 0 | H12: =DATE(D12,C12,B12) -> 46083 | I12: =WEEKNUM(H12,2) -> 10
B13: 2 | C13: 3 | D13: 2026 | E13: 0 | F13: 0 | G13: 0 | H13: =DATE(D13,C13,B13) -> 46083 | I13: =WEEKNUM(H13,2) -> 10
B14: 2 | C14: 3 | D14: 2026 | E14: 0 | F14: 0 | G14: 0 | H14: =DATE(D14,C14,B14) -> 46083 | I14: =WEEKNUM(H14,2) -> 10
B15: 3 | C15: 3 | D15: 2026 | E15: 0 | F15: 0 | G15: 0 | H15: =DATE(D15,C15,B15) -> 46084 | I15: =WEEKNUM(H15,2) -> 10
B16: 3 | C16: 3 | D16: 2026 | E16: 0 | F16: 0 | G16: 0 | H16: =DATE(D16,C16,B16) -> 46084 | I16: =WEEKNUM(H16,2) -> 10
B17: 3 | C17: 3 | D17: 2026 | E17: 0 | F17: 0 | G17: 0 | H17: =DATE(D17,C17,B17) -> 46084 | I17: =WEEKNUM(H17,2) -> 10
B18: 3 | C18: 3 | D18: 2026 | E18: 0 | F18: 0 | G18: 0 | H18: =DATE(D18,C18,B18) -> 46084 | I18: =WEEKNUM(H18,2) -> 10
B19: 4 | C19: 3 | D19: 2026 | E19: 0 | F19: 0 | G19: 0 | H19: =DATE(D19,C19,B19) -> 46085 | I19: =WEEKNUM(H19,2) -> 10
... B130: 31 | C130: 3 | D130: 2026 | E130: 0 | F130: 0 | G130: 0 | H130: =DATE(D130,C130,B130) -> 46112 | I130: =WEEKNUM(H130,2) -> 14
A131: Totaal aantal gewerkte uren voor deze maand | E131: =SUM(E7:E130) -> 0 | F131: =SUM(F7:F130) -> 0 | G131: =SUM(G7:G130) -> 0
A135: Controle maximale uren per week (50u/week) | C135: Controle maximale uren per dag
A136: =I7 -> 9 | B136: =SUMIF($I$7:$I$130,A136,$G$7:$G$130)+SUMIF($I$7:$I$130,A136,$F$7:$F$130)+SUMIF($I$7:$I$130,A136,$E$7:$E$130)+SUMIF('tijdsregist 02 2026'!I7:I118,'tijdsregist 03 2026'!A136,'tijdsregist 02 2026'!E7:E118)+SUMIF('tijdsregist 02 2026'!I7:I118,'tijdsregist 03 2026'!A136,'tijdsregist 02 2026'!F7:F118)+SUMIF('tijdsregist 02 2026'!I7:I118,'tijdsregist 03 2026'!A136,'tijdsregist 02 2026'!G7:G118) -> 0 | C136: 1 | D136: =SUMIF($B$7:$B$130,C136,$G$7:$G$130)+SUMIF($B$7:$B$130,C136,$F$7:$F$130)+SUMIF($B$7:$B$130,C136,$E$7:$E$130) -> 0
A137: =A136+1 -> 10 | B137: =SUMIF($I$7:$I$130,A137,$G$7:$G$130)+SUMIF($I$7:$I$130,A137,$F$7:$F$130)+SUMIF($I$7:$I$130,A137,$E$7:$E$130) -> 0 | C137: 2 | D137: =SUMIF($B$7:$B$130,C137,$G$7:$G$130)+SUMIF($B$7:$B$130,C137,$F$7:$F$130)+SUMIF($B$7:$B$130,C137,$E$7:$E$130) -> 0
A138: =A137+1 -> 11 | B138: =SUMIF($I$7:$I$130,A138,$G$7:$G$130)+SUMIF($I$7:$I$130,A138,$F$7:$F$130)+SUMIF($I$7:$I$130,A138,$E$7:$E$130) -> 0 | C138: 3 | D138: =SUMIF($B$7:$B$130,C138,$G$7:$G$130)+SUMIF($B$7:$B$130,C138,$F$7:$F$130)+SUMIF($B$7:$B$130,C138,$E$7:$E$130) -> 0
A139: =A138+1 -> 12 | B139: =SUMIF($I$7:$I$130,A139,$G$7:$G$130)+SUMIF($I$7:$I$130,A139,$F$7:$F$130)+SUMIF($I$7:$I$130,A139,$E$7:$E$130) -> 0 | C139: 4 | D139: =SUMIF($B$7:$B$130,C139,$G$7:$G$130)+SUMIF($B$7:$B$130,C139,$F$7:$F$130)+SUMIF($B$7:$B$130,C139,$E$7:$E$130) -> 0
A140: =A139+1 -> 13 | B140: =SUMIF($I$7:$I$130,A140,$G$7:$G$130)+SUMIF($I$7:$I$130,A140,$F$7:$F$130)+SUMIF($I$7:$I$130,A140,$E$7:$E$130) -> 0 | C140: 5 | D140: =SUMIF($B$7:$B$130,C140,$G$7:$G$130)+SUMIF($B$7:$B$130,C140,$F$7:$F$130)+SUMIF($B$7:$B$130,C140,$E$7:$E$130) -> 0
A141: 14 | B141: =SUMIF($I$7:$I$130,A141,$G$7:$G$130)+SUMIF($I$7:$I$130,A141,$F$7:$F$130)+SUMIF($I$7:$I$130,A141,$E$7:$E$130)+SUMIF('tijdsregist 04 2026'!I7:I126,'tijdsregist 03 2026'!A141,'tijdsregist 04 2026'!E7:E126)+SUMIF('tijdsregist 04 2026'!I7:I126,'tijdsregist 03 2026'!A141,'tijdsregist 04 2026'!F7:F126)+SUMIF('tijdsregist 04 2026'!I7:I126,'tijdsregist 03 2026'!A141,'tijdsregist 04 2026'!G7:G126) -> 0 | C141: 6 | D141: =SUMIF($B$7:$B$130,C141,$G$7:$G$130)+SUMIF($B$7:$B$130,C141,$F$7:$F$130)+SUMIF($B$7:$B$130,C141,$E$7:$E$130) -> 0
C142: 7 | D142: =SUMIF($B$7:$B$130,C142,$G$7:$G$130)+SUMIF($B$7:$B$130,C142,$F$7:$F$130)+SUMIF($B$7:$B$130,C142,$E$7:$E$130) -> 0
C143: 8 | D143: =SUMIF($B$7:$B$130,C143,$G$7:$G$130)+SUMIF($B$7:$B$130,C143,$F$7:$F$130)+SUMIF($B$7:$B$130,C143,$E$7:$E$130) -> 0
C144: 9 | D144: =SUMIF($B$7:$B$130,C144,$G$7:$G$130)+SUMIF($B$7:$B$130,C144,$F$7:$F$130)+SUMIF($B$7:$B$130,C144,$E$7:$E$130) -> 0
C145: 10 | D145: =SUMIF($B$7:$B$130,C145,$G$7:$G$130)+SUMIF($B$7:$B$130,C145,$F$7:$F$130)+SUMIF($B$7:$B$130,C145,$E$7:$E$130) -> 0
C146: 11 | D146: =SUMIF($B$7:$B$130,C146,$G$7:$G$130)+SUMIF($B$7:$B$130,C146,$F$7:$F$130)+SUMIF($B$7:$B$130,C146,$E$7:$E$130) -> 0
C147: 12 | D147: =SUMIF($B$7:$B$130,C147,$G$7:$G$130)+SUMIF($B$7:$B$130,C147,$F$7:$F$130)+SUMIF($B$7:$B$130,C147,$E$7:$E$130) -> 0
C148: 13 | D148: =SUMIF($B$7:$B$130,C148,$G$7:$G$130)+SUMIF($B$7:$B$130,C148,$F$7:$F$130)+SUMIF($B$7:$B$130,C148,$E$7:$E$130) -> 0
C149: 14 | D149: =SUMIF($B$7:$B$130,C149,$G$7:$G$130)+SUMIF($B$7:$B$130,C149,$F$7:$F$130)+SUMIF($B$7:$B$130,C149,$E$7:$E$130) -> 0
C150: 15 | D150: =SUMIF($B$7:$B$130,C150,$G$7:$G$130)+SUMIF($B$7:$B$130,C150,$F$7:$F$130)+SUMIF($B$7:$B$130,C150,$E$7:$E$130) -> 0
C151: 16 | D151: =SUMIF($B$7:$B$130,C151,$G$7:$G$130)+SUMIF($B$7:$B$130,C151,$F$7:$F$130)+SUMIF($B$7:$B$130,C151,$E$7:$E$130) -> 0
C152: 17 | D152: =SUMIF($B$7:$B$130,C152,$G$7:$G$130)+SUMIF($B$7:$B$130,C152,$F$7:$F$130)+SUMIF($B$7:$B$130,C152,$E$7:$E$130) -> 0
C153: 18 | D153: =SUMIF($B$7:$B$130,C153,$G$7:$G$130)+SUMIF($B$7:$B$130,C153,$F$7:$F$130)+SUMIF($B$7:$B$130,C153,$E$7:$E$130) -> 0
... C166: 31 | D166: =SUMIF($B$7:$B$130,C166,$G$7:$G$130)+SUMIF($B$7:$B$130,C166,$F$7:$F$130)+SUMIF($B$7:$B$130,C166,$E$7:$E$130) -> 0

Sheet tijdsregist 04 2026
A3: Voor de berekening van de totale loonkosten is een tijdsregistratie uitgedrukt in werkuren nodig. De wettelijke maxima bedragen 11 uren per dag en 50 uren per week. Overuren zijn niet subsidiabel.
A5: Omschrijving werkzaamheden per activiteit invullen | B5: dag | C5: maand | D5: jaartal | E5: gewerkte uren Project1 (formaat uu:mm) | F5: gewerkte uren Project2(formaat uu:mm) | G5: gewerkte uren Project3 (formaat uu:mm)
A6: Projectnaam:
B7: 1 | C7: 4 | D7: 2026 | E7: 0 | F7: 0 | G7: 0 | H7: =DATE(D7,C7,B7) -> 46113 | I7: =WEEKNUM(H7,21) -> 14
B8: 1 | C8: 4 | D8: 2026 | E8: 0 | F8: 0 | G8: 0 | H8: =DATE(D8,C8,B8) -> 46113 | I8: =WEEKNUM(H8,2) -> 14
B9: 1 | C9: 4 | D9: 2026 | E9: 0 | F9: 0 | G9: 0 | H9: =DATE(D9,C9,B9) -> 46113 | I9: =WEEKNUM(H9,2) -> 14
B10: 1 | C10: 4 | D10: 2026 | E10: 0 | F10: 0 | G10: 0 | H10: =DATE(D10,C10,B10) -> 46113 | I10: =WEEKNUM(H10,2) -> 14
B11: 2 | C11: 4 | D11: 2026 | E11: 0 | F11: 0 | G11: 0 | H11: =DATE(D11,C11,B11) -> 46114 | I11: =WEEKNUM(H11,2) -> 14
B12: 2 | C12: 4 | D12: 2026 | E12: 0 | F12: 0 | G12: 0 | H12: =DATE(D12,C12,B12) -> 46114 | I12: =WEEKNUM(H12,2) -> 14
B13: 2 | C13: 4 | D13: 2026 | E13: 0 | F13: 0 | G13: 0 | H13: =DATE(D13,C13,B13) -> 46114 | I13: =WEEKNUM(H13,2) -> 14
B14: 2 | C14: 4 | D14: 2026 | E14: 0 | F14: 0 | G14: 0 | H14: =DATE(D14,C14,B14) -> 46114 | I14: =WEEKNUM(H14,2) -> 14
B15: 3 | C15: 4 | D15: 2026 | E15: 0 | F15: 0 | G15: 0 | H15: =DATE(D15,C15,B15) -> 46115 | I15: =WEEKNUM(H15,2) -> 14
B16: 3 | C16: 4 | D16: 2026 | E16: 0 | F16: 0 | G16: 0 | H16: =DATE(D16,C16,B16) -> 46115 | I16: =WEEKNUM(H16,2) -> 14
B17: 3 | C17: 4 | D17: 2026 | E17: 0 | F17: 0 | G17: 0 | H17: =DATE(D17,C17,B17) -> 46115 | I17: =WEEKNUM(H17,2) -> 14
B18: 3 | C18: 4 | D18: 2026 | E18: 0 | F18: 0 | G18: 0 | H18: =DATE(D18,C18,B18) -> 46115 | I18: =WEEKNUM(H18,2) -> 14
B19: 4 | C19: 4 | D19: 2026 | E19: 0 | F19: 0 | G19: 0 | H19: =DATE(D19,C19,B19) -> 46116 | I19: =WEEKNUM(H19,2) -> 14
... B126: 30 | C126: 4 | D126: 2026 | E126: 0 | F126: 0 | G126: 0 | H126: =DATE(D126,C126,B126) -> 46142 | I126: =WEEKNUM(H126,2) -> 18
A127: Totaal aantal gewerkte uren voor deze maand | E127: =SUM(E7:E126) -> 0 | F127: =SUM(F7:F126) -> 0 | G127: =SUM(G7:G126) -> 0
A131: Controle maximale uren per week (50u/week) | C131: Controle maximale uren per dag
A132: =I7 -> 14 | B132: =SUMIF($I$7:$I$126,A132,$G$7:$G$126)+SUMIF($I$7:$I$126,A132,$F$7:$F$126)+SUMIF($I$7:$I$126,A132,$E$7:$E$126)+SUMIF('tijdsregist 03 2026'!I7:I130,'tijdsregist 04 2026'!A132,'tijdsregist 03 2026'!E7:E130)+SUMIF('tijdsregist 03 2026'!I7:I130,'tijdsregist 04 2026'!A132,'tijdsregist 03 2026'!F7:F130)+SUMIF('tijdsregist 03 2026'!I7:I130,'tijdsregist 04 2026'!A132,'tijdsregist 03 2026'!G7:G130) -> 0 | C132: 1 | D132: =SUMIF($B$7:$B$126,C132,$G$7:$G$126)+SUMIF($B$7:$B$126,C132,$F$7:$F$126)+SUMIF($B$7:$B$126,C132,$E$7:$E$126) -> 0
A133: =A132+1 -> 15 | B133: =SUMIF($I$7:$I$126,A133,$G$7:$G$126)+SUMIF($I$7:$I$126,A133,$F$7:$F$126)+SUMIF($I$7:$I$126,A133,$E$7:$E$126) -> 0 | C133: 2 | D133: =SUMIF($B$7:$B$126,C133,$G$7:$G$126)+SUMIF($B$7:$B$126,C133,$F$7:$F$126)+SUMIF($B$7:$B$126,C133,$E$7:$E$126) -> 0
A134: =A133+1 -> 16 | B134: =SUMIF($I$7:$I$126,A134,$G$7:$G$126)+SUMIF($I$7:$I$126,A134,$F$7:$F$126)+SUMIF($I$7:$I$126,A134,$E$7:$E$126) -> 0 | C134: 3 | D134: =SUMIF($B$7:$B$126,C134,$G$7:$G$126)+SUMIF($B$7:$B$126,C134,$F$7:$F$126)+SUMIF($B$7:$B$126,C134,$E$7:$E$126) -> 0
A135: =A134+1 -> 17 | B135: =SUMIF($I$7:$I$126,A135,$G$7:$G$126)+SUMIF($I$7:$I$126,A135,$F$7:$F$126)+SUMIF($I$7:$I$126,A135,$E$7:$E$126) -> 0 | C135: 4 | D135: =SUMIF($B$7:$B$126,C135,$G$7:$G$126)+SUMIF($B$7:$B$126,C135,$F$7:$F$126)+SUMIF($B$7:$B$126,C135,$E$7:$E$126) -> 0
A136: =A135+1 -> 18 | B136: =SUMIF($I$7:$I$126,A136,$G$7:$G$126)+SUMIF($I$7:$I$126,A136,$F$7:$F$126)+SUMIF($I$7:$I$126,A136,$E$7:$E$126)+SUMIF('tijdsregist 05 2026'!I7:I130,'tijdsregist 04 2026'!A136,'tijdsregist 05 2026'!E7:E130)+SUMIF('tijdsregist 05 2026'!I7:I130,'tijdsregist 04 2026'!A136,'tijdsregist 05 2026'!F7:F130)+SUMIF('tijdsregist 05 2026'!I7:I130,'tijdsregist 04 2026'!A136,'tijdsregist 05 2026'!G7:G130) -> 0 | C136: 5 | D136: =SUMIF($B$7:$B$126,C136,$G$7:$G$126)+SUMIF($B$7:$B$126,C136,$F$7:$F$126)+SUMIF($B$7:$B$126,C136,$E$7:$E$126) -> 0
C137: 6 | D137: =SUMIF($B$7:$B$126,C137,$G$7:$G$126)+SUMIF($B$7:$B$126,C137,$F$7:$F$126)+SUMIF($B$7:$B$126,C137,$E$7:$E$126) -> 0
C138: 7 | D138: =SUMIF($B$7:$B$126,C138,$G$7:$G$126)+SUMIF($B$7:$B$126,C138,$F$7:$F$126)+SUMIF($B$7:$B$126,C138,$E$7:$E$126) -> 0
C139: 8 | D139: =SUMIF($B$7:$B$126,C139,$G$7:$G$126)+SUMIF($B$7:$B$126,C139,$F$7:$F$126)+SUMIF($B$7:$B$126,C139,$E$7:$E$126) -> 0
C140: 9 | D140: =SUMIF($B$7:$B$126,C140,$G$7:$G$126)+SUMIF($B$7:$B$126,C140,$F$7:$F$126)+SUMIF($B$7:$B$126,C140,$E$7:$E$126) -> 0
C141: 10 | D141: =SUMIF($B$7:$B$126,C141,$G$7:$G$126)+SUMIF($B$7:$B$126,C141,$F$7:$F$126)+SUMIF($B$7:$B$126,C141,$E$7:$E$126) -> 0
C142: 11 | D142: =SUMIF($B$7:$B$126,C142,$G$7:$G$126)+SUMIF($B$7:$B$126,C142,$F$7:$F$126)+SUMIF($B$7:$B$126,C142,$E$7:$E$126) -> 0
C143: 12 | D143: =SUMIF($B$7:$B$126,C143,$G$7:$G$126)+SUMIF($B$7:$B$126,C143,$F$7:$F$126)+SUMIF($B$7:$B$126,C143,$E$7:$E$126) -> 0
C144: 13 | D144: =SUMIF($B$7:$B$126,C144,$G$7:$G$126)+SUMIF($B$7:$B$126,C144,$F$7:$F$126)+SUMIF($B$7:$B$126,C144,$E$7:$E$126) -> 0
C145: 14 | D145: =SUMIF($B$7:$B$126,C145,$G$7:$G$126)+SUMIF($B$7:$B$126,C145,$F$7:$F$126)+SUMIF($B$7:$B$126,C145,$E$7:$E$126) -> 0
C146: 15 | D146: =SUMIF($B$7:$B$126,C146,$G$7:$G$126)+SUMIF($B$7:$B$126,C146,$F$7:$F$126)+SUMIF($B$7:$B$126,C146,$E$7:$E$126) -> 0
C147: 16 | D147: =SUMIF($B$7:$B$126,C147,$G$7:$G$126)+SUMIF($B$7:$B$126,C147,$F$7:$F$126)+SUMIF($B$7:$B$126,C147,$E$7:$E$126) -> 0
C148: 17 | D148: =SUMIF($B$7:$B$126,C148,$G$7:$G$126)+SUMIF($B$7:$B$126,C148,$F$7:$F$126)+SUMIF($B$7:$B$126,C148,$E$7:$E$126) -> 0
... C162: 31 | D162: =SUMIF($B$7:$B$126,C162,$G$7:$G$126)+SUMIF($B$7:$B$126,C162,$F$7:$F$126)+SUMIF($B$7:$B$126,C162,$E$7:$E$126) -> 0

Sheet tijdsregist 05 2026
A3: Voor de berekening van de totale loonkosten is een tijdsregistratie uitgedrukt in werkuren nodig. De wettelijke maxima bedragen 11 uren per dag en 50 uren per week. Overuren zijn niet subsidiabel.
A5: Omschrijving werkzaamheden per activiteit invullen | B5: dag | C5: maand | D5: jaartal | E5: gewerkte uren Project1 (formaat uu:mm) | F5: gewerkte uren Project2(formaat uu:mm) | G5: gewerkte uren Project3 (formaat uu:mm)
A6: Projectnaam:
B7: 1 | C7: 5 | D7: 2026 | E7: 0 | F7: 0 | G7: 0 | H7: =DATE(D7,C7,B7) -> 46143 | I7: =WEEKNUM(H7,21) -> 18
B8: 1 | C8: 5 | D8: 2026 | E8: 0 | F8: 0 | G8: 0 | H8: =DATE(D8,C8,B8) -> 46143 | I8: =WEEKNUM(H8,2) -> 18
B9: 1 | C9: 5 | D9: 2026 | E9: 0 | F9: 0 | G9: 0 | H9: =DATE(D9,C9,B9) -> 46143 | I9: =WEEKNUM(H9,2) -> 18
B10: 1 | C10: 5 | D10: 2026 | E10: 0 | F10: 0 | G10: 0 | H10: =DATE(D10,C10,B10) -> 46143 | I10: =WEEKNUM(H10,2) -> 18
B11: 2 | C11: 5 | D11: 2026 | E11: 0 | F11: 0 | G11: 0 | H11: =DATE(D11,C11,B11) -> 46144 | I11: =WEEKNUM(H11,2) -> 18
B12: 2 | C12: 5 | D12: 2026 | E12: 0 | F12: 0 | G12: 0 | H12: =DATE(D12,C12,B12) -> 46144 | I12: =WEEKNUM(H12,2) -> 18
B13: 2 | C13: 5 | D13: 2026 | E13: 0 | F13: 0 | G13: 0 | H13: =DATE(D13,C13,B13) -> 46144 | I13: =WEEKNUM(H13,2) -> 18
B14: 2 | C14: 5 | D14: 2026 | E14: 0 | F14: 0 | G14: 0 | H14: =DATE(D14,C14,B14) -> 46144 | I14: =WEEKNUM(H14,2) -> 18
B15: 3 | C15: 5 | D15: 2026 | E15: 0 | F15: 0 | G15: 0 | H15: =DATE(D15,C15,B15) -> 46145 | I15: =WEEKNUM(H15,2) -> 18
B16: 3 | C16: 5 | D16: 2026 | E16: 0 | F16: 0 | G16: 0 | H16: =DATE(D16,C16,B16) -> 46145 | I16: =WEEKNUM(H16,2) -> 18
B17: 3 | C17: 5 | D17: 2026 | E17: 0 | F17: 0 | G17: 0 | H17: =DATE(D17,C17,B17) -> 46145 | I17: =WEEKNUM(H17,2) -> 18
B18: 3 | C18: 5 | D18: 2026 | E18: 0 | F18: 0 | G18: 0 | H18: =DATE(D18,C18,B18) -> 46145 | I18: =WEEKNUM(H18,2) -> 18
B19: 4 | C19: 5 | D19: 2026 | E19: 0 | F19: 0 | G19: 0 | H19: =DATE(D19,C19,B19) -> 46146 | I19: =WEEKNUM(H19,2) -> 19
... B130: 31 | C130: 5 | D130: 2026 | E130: 0 | F130: 0 | G130: 0 | H130: =DATE(D130,C130,B130) -> 46173 | I130: =WEEKNUM(H130,2) -> 22
A131: Totaal aantal gewerkte uren voor deze maand | E131: =SUM(E7:E130) -> 0 | F131: =SUM(F7:F130) -> 0 | G131: =SUM(G7:G130) -> 0
A135: Controle maximale uren per week (50u/week) | C135: Controle maximale uren per dag
A136: =I7 -> 18 | B136: =SUMIF($I$7:$I$130,A136,$G$7:$G$130)+SUMIF($I$7:$I$130,A136,$F$7:$F$130)+SUMIF($I$7:$I$130,A136,$E$7:$E$130)+SUMIF('tijdsregist 04 2026'!I7:I126,'tijdsregist 05 2026'!A136,'tijdsregist 04 2026'!E7:E126)+SUMIF('tijdsregist 04 2026'!I7:I126,'tijdsregist 05 2026'!A136,'tijdsregist 04 2026'!F7:F126)+SUMIF('tijdsregist 04 2026'!I7:I126,'tijdsregist 05 2026'!A136,'tijdsregist 04 2026'!F7:F126) -> 0 | C136: 1 | D136: =SUMIF($B$7:$B$130,C136,$G$7:$G$130)+SUMIF($B$7:$B$130,C136,$F$7:$F$130)+SUMIF($B$7:$B$130,C136,$E$7:$E$130) -> 0
A137: =A136+1 -> 19 | B137: =SUMIF($I$7:$I$130,A137,$G$7:$G$130)+SUMIF($I$7:$I$130,A137,$F$7:$F$130)+SUMIF($I$7:$I$130,A137,$E$7:$E$130) -> 0 | C137: 2 | D137: =SUMIF($B$7:$B$130,C137,$G$7:$G$130)+SUMIF($B$7:$B$130,C137,$F$7:$F$130)+SUMIF($B$7:$B$130,C137,$E$7:$E$130) -> 0
A138: =A137+1 -> 20 | B138: =SUMIF($I$7:$I$130,A138,$G$7:$G$130)+SUMIF($I$7:$I$130,A138,$F$7:$F$130)+SUMIF($I$7:$I$130,A138,$E$7:$E$130) -> 0 | C138: 3 | D138: =SUMIF($B$7:$B$130,C138,$G$7:$G$130)+SUMIF($B$7:$B$130,C138,$F$7:$F$130)+SUMIF($B$7:$B$130,C138,$E$7:$E$130) -> 0
A139: =A138+1 -> 21 | B139: =SUMIF($I$7:$I$130,A139,$G$7:$G$130)+SUMIF($I$7:$I$130,A139,$F$7:$F$130)+SUMIF($I$7:$I$130,A139,$E$7:$E$130) -> 0 | C139: 4 | D139: =SUMIF($B$7:$B$130,C139,$G$7:$G$130)+SUMIF($B$7:$B$130,C139,$F$7:$F$130)+SUMIF($B$7:$B$130,C139,$E$7:$E$130) -> 0
A140: =A139+1 -> 22 | B140: =SUMIF($I$7:$I$130,A140,$G$7:$G$130)+SUMIF($I$7:$I$130,A140,$F$7:$F$130)+SUMIF($I$7:$I$130,A140,$E$7:$E$130)+SUMIF('tijdsregist 06 2026'!I7:I126,'tijdsregist 05 2026'!A140,'tijdsregist 06 2026'!E7:E126)+SUMIF('tijdsregist 06 2026'!I7:I126,'tijdsregist 05 2026'!A140,'tijdsregist 06 2026'!F7:F126)+SUMIF('tijdsregist 06 2026'!I7:I126,'tijdsregist 05 2026'!A140,'tijdsregist 06 2026'!F7:F126) -> 0 | C140: 5 | D140: =SUMIF($B$7:$B$130,C140,$G$7:$G$130)+SUMIF($B$7:$B$130,C140,$F$7:$F$130)+SUMIF($B$7:$B$130,C140,$E$7:$E$130) -> 0
C141: 6 | D141: =SUMIF($B$7:$B$130,C141,$G$7:$G$130)+SUMIF($B$7:$B$130,C141,$F$7:$F$130)+SUMIF($B$7:$B$130,C141,$E$7:$E$130) -> 0
C142: 7 | D142: =SUMIF($B$7:$B$130,C142,$G$7:$G$130)+SUMIF($B$7:$B$130,C142,$F$7:$F$130)+SUMIF($B$7:$B$130,C142,$E$7:$E$130) -> 0
C143: 8 | D143: =SUMIF($B$7:$B$130,C143,$G$7:$G$130)+SUMIF($B$7:$B$130,C143,$F$7:$F$130)+SUMIF($B$7:$B$130,C143,$E$7:$E$130) -> 0
C144: 9 | D144: =SUMIF($B$7:$B$130,C144,$G$7:$G$130)+SUMIF($B$7:$B$130,C144,$F$7:$F$130)+SUMIF($B$7:$B$130,C144,$E$7:$E$130) -> 0
C145: 10 | D145: =SUMIF($B$7:$B$130,C145,$G$7:$G$130)+SUMIF($B$7:$B$130,C145,$F$7:$F$130)+SUMIF($B$7:$B$130,C145,$E$7:$E$130) -> 0
C146: 11 | D146: =SUMIF($B$7:$B$130,C146,$G$7:$G$130)+SUMIF($B$7:$B$130,C146,$F$7:$F$130)+SUMIF($B$7:$B$130,C146,$E$7:$E$130) -> 0
C147: 12 | D147: =SUMIF($B$7:$B$130,C147,$G$7:$G$130)+SUMIF($B$7:$B$130,C147,$F$7:$F$130)+SUMIF($B$7:$B$130,C147,$E$7:$E$130) -> 0
C148: 13 | D148: =SUMIF($B$7:$B$130,C148,$G$7:$G$130)+SUMIF($B$7:$B$130,C148,$F$7:$F$130)+SUMIF($B$7:$B$130,C148,$E$7:$E$130) -> 0
C149: 14 | D149: =SUMIF($B$7:$B$130,C149,$G$7:$G$130)+SUMIF($B$7:$B$130,C149,$F$7:$F$130)+SUMIF($B$7:$B$130,C149,$E$7:$E$130) -> 0
C150: 15 | D150: =SUMIF($B$7:$B$130,C150,$G$7:$G$130)+SUMIF($B$7:$B$130,C150,$F$7:$F$130)+SUMIF($B$7:$B$130,C150,$E$7:$E$130) -> 0
C151: 16 | D151: =SUMIF($B$7:$B$130,C151,$G$7:$G$130)+SUMIF($B$7:$B$130,C151,$F$7:$F$130)+SUMIF($B$7:$B$130,C151,$E$7:$E$130) -> 0
C152: 17 | D152: =SUMIF($B$7:$B$130,C152,$G$7:$G$130)+SUMIF($B$7:$B$130,C152,$F$7:$F$130)+SUMIF($B$7:$B$130,C152,$E$7:$E$130) -> 0
... C166: 31 | D166: =SUMIF($B$7:$B$130,C166,$G$7:$G$130)+SUMIF($B$7:$B$130,C166,$F$7:$F$130)+SUMIF($B$7:$B$130,C166,$E$7:$E$130) -> 0

Sheet tijdsregist 06 2026
A3: Voor de berekening van de totale loonkosten is een tijdsregistratie uitgedrukt in werkuren nodig. De wettelijke maxima bedragen 11 uren per dag en 50 uren per week. Overuren zijn niet subsidiabel.
A5: Omschrijving werkzaamheden per activiteit invullen | B5: dag | C5: maand | D5: jaartal | E5: gewerkte uren Project1 (formaat uu:mm) | F5: gewerkte uren Project2(formaat uu:mm) | G5: gewerkte uren Project3 (formaat uu:mm)
A6: Projectnaam:
B7: 1 | C7: 6 | D7: 2026 | E7: 0 | F7: 0 | G7: 0 | H7: =DATE(D7,C7,B7) -> 46174 | I7: =WEEKNUM(H7,21) -> 23
B8: 1 | C8: 6 | D8: 2026 | E8: 0 | F8: 0 | G8: 0 | H8: =DATE(D8,C8,B8) -> 46174 | I8: =WEEKNUM(H8,2) -> 23
B9: 1 | C9: 6 | D9: 2026 | E9: 0 | F9: 0 | G9: 0 | H9: =DATE(D9,C9,B9) -> 46174 | I9: =WEEKNUM(H9,2) -> 23
B10: 1 | C10: 6 | D10: 2026 | E10: 0 | F10: 0 | G10: 0 | H10: =DATE(D10,C10,B10) -> 46174 | I10: =WEEKNUM(H10,2) -> 23
B11: 2 | C11: 6 | D11: 2026 | E11: 0 | F11: 0 | G11: 0 | H11: =DATE(D11,C11,B11) -> 46175 | I11: =WEEKNUM(H11,2) -> 23
B12: 2 | C12: 6 | D12: 2026 | E12: 0 | F12: 0 | G12: 0 | H12: =DATE(D12,C12,B12) -> 46175 | I12: =WEEKNUM(H12,2) -> 23
B13: 2 | C13: 6 | D13: 2026 | E13: 0 | F13: 0 | G13: 0 | H13: =DATE(D13,C13,B13) -> 46175 | I13: =WEEKNUM(H13,2) -> 23
B14: 2 | C14: 6 | D14: 2026 | E14: 0 | F14: 0 | G14: 0 | H14: =DATE(D14,C14,B14) -> 46175 | I14: =WEEKNUM(H14,2) -> 23
B15: 3 | C15: 6 | D15: 2026 | E15: 0 | F15: 0 | G15: 0 | H15: =DATE(D15,C15,B15) -> 46176 | I15: =WEEKNUM(H15,2) -> 23
B16: 3 | C16: 6 | D16: 2026 | E16: 0 | F16: 0 | G16: 0 | H16: =DATE(D16,C16,B16) -> 46176 | I16: =WEEKNUM(H16,2) -> 23
B17: 3 | C17: 6 | D17: 2026 | E17: 0 | F17: 0 | G17: 0 | H17: =DATE(D17,C17,B17) -> 46176 | I17: =WEEKNUM(H17,2) -> 23
B18: 3 | C18: 6 | D18: 2026 | E18: 0 | F18: 0 | G18: 0 | H18: =DATE(D18,C18,B18) -> 46176 | I18: =WEEKNUM(H18,2) -> 23
B19: 4 | C19: 6 | D19: 2026 | E19: 0 | F19: 0 | G19: 0 | H19: =DATE(D19,C19,B19) -> 46177 | I19: =WEEKNUM(H19,2) -> 23
... B126: 30 | C126: 6 | D126: 2026 | E126: 0 | F126: 0 | G126: 0 | H126: =DATE(D126,C126,B126) -> 46203 | I126: =WEEKNUM(H126,2) -> 27
A127: Totaal aantal gewerkte uren voor deze maand | E127: =SUM(E7:E126) -> 0 | F127: =SUM(F7:F126) -> 0 | G127: =SUM(G7:G126) -> 0
A131: Controle maximale uren per week (50u/week) | C131: Controle maximale uren per dag
A132: =I7 -> 23 | B132: =SUMIF($I$7:$I$126,A132,$G$7:$G$126)+SUMIF($I$7:$I$126,A132,$F$7:$F$126)+SUMIF($I$7:$I$126,A132,$E$7:$E$126)+SUMIF('tijdsregist 05 2026'!I7:I130,'tijdsregist 06 2026'!A132,'tijdsregist 05 2026'!E7:E130)+SUMIF('tijdsregist 05 2026'!I7:I130,'tijdsregist 06 2026'!A132,'tijdsregist 05 2026'!F7:F130)+SUMIF('tijdsregist 05 2026'!I7:I130,'tijdsregist 06 2026'!A132,'tijdsregist 05 2026'!G7:G130) -> 0 | C132: 1 | D132: =SUMIF($B$7:$B$126,C132,$G$7:$G$126)+SUMIF($B$7:$B$126,C132,$F$7:$F$126)+SUMIF($B$7:$B$126,C132,$E$7:$E$126) -> 0
A133: =A132+1 -> 24 | B133: =SUMIF($I$7:$I$126,A133,$G$7:$G$126)+SUMIF($I$7:$I$126,A133,$F$7:$F$126)+SUMIF($I$7:$I$126,A133,$E$7:$E$126) -> 0 | C133: 2 | D133: =SUMIF($B$7:$B$126,C133,$G$7:$G$126)+SUMIF($B$7:$B$126,C133,$F$7:$F$126)+SUMIF($B$7:$B$126,C133,$E$7:$E$126) -> 0
A134: =A133+1 -> 25 | B134: =SUMIF($I$7:$I$126,A134,$G$7:$G$126)+SUMIF($I$7:$I$126,A134,$F$7:$F$126)+SUMIF($I$7:$I$126,A134,$E$7:$E$126) -> 0 | C134: 3 | D134: =SUMIF($B$7:$B$126,C134,$G$7:$G$126)+SUMIF($B$7:$B$126,C134,$F$7:$F$126)+SUMIF($B$7:$B$126,C134,$E$7:$E$126) -> 0
A135: =A134+1 -> 26 | B135: =SUMIF($I$7:$I$126,A135,$G$7:$G$126)+SUMIF($I$7:$I$126,A135,$F$7:$F$126)+SUMIF($I$7:$I$126,A135,$E$7:$E$126) -> 0 | C135: 4 | D135: =SUMIF($B$7:$B$126,C135,$G$7:$G$126)+SUMIF($B$7:$B$126,C135,$F$7:$F$126)+SUMIF($B$7:$B$126,C135,$E$7:$E$126) -> 0
A136: =A135+1 -> 27 | B136: =SUMIF($I$7:$I$126,A136,$G$7:$G$126)+SUMIF($I$7:$I$126,A136,$F$7:$F$126)+SUMIF($I$7:$I$126,A136,$E$7:$E$126)+SUMIF('tijdsregist 07 2026'!I7:I130,'tijdsregist 06 2026'!A136,'tijdsregist 07 2026'!E7:E130)+SUMIF('tijdsregist 07 2026'!I7:I130,'tijdsregist 06 2026'!A136,'tijdsregist 07 2026'!F7:F130)+SUMIF('tijdsregist 07 2026'!I7:I130,'tijdsregist 06 2026'!A136,'tijdsregist 07 2026'!G7:G130) -> 0 | C136: 5 | D136: =SUMIF($B$7:$B$126,C136,$G$7:$G$126)+SUMIF($B$7:$B$126,C136,$F$7:$F$126)+SUMIF($B$7:$B$126,C136,$E$7:$E$126) -> 0
C137: 6 | D137: =SUMIF($B$7:$B$126,C137,$G$7:$G$126)+SUMIF($B$7:$B$126,C137,$F$7:$F$126)+SUMIF($B$7:$B$126,C137,$E$7:$E$126) -> 0
C138: 7 | D138: =SUMIF($B$7:$B$126,C138,$G$7:$G$126)+SUMIF($B$7:$B$126,C138,$F$7:$F$126)+SUMIF($B$7:$B$126,C138,$E$7:$E$126) -> 0
C139: 8 | D139: =SUMIF($B$7:$B$126,C139,$G$7:$G$126)+SUMIF($B$7:$B$126,C139,$F$7:$F$126)+SUMIF($B$7:$B$126,C139,$E$7:$E$126) -> 0
C140: 9 | D140: =SUMIF($B$7:$B$126,C140,$G$7:$G$126)+SUMIF($B$7:$B$126,C140,$F$7:$F$126)+SUMIF($B$7:$B$126,C140,$E$7:$E$126) -> 0
C141: 10 | D141: =SUMIF($B$7:$B$126,C141,$G$7:$G$126)+SUMIF($B$7:$B$126,C141,$F$7:$F$126)+SUMIF($B$7:$B$126,C141,$E$7:$E$126) -> 0
C142: 11 | D142: =SUMIF($B$7:$B$126,C142,$G$7:$G$126)+SUMIF($B$7:$B$126,C142,$F$7:$F$126)+SUMIF($B$7:$B$126,C142,$E$7:$E$126) -> 0
C143: 12 | D143: =SUMIF($B$7:$B$126,C143,$G$7:$G$126)+SUMIF($B$7:$B$126,C143,$F$7:$F$126)+SUMIF($B$7:$B$126,C143,$E$7:$E$126) -> 0
C144: 13 | D144: =SUMIF($B$7:$B$126,C144,$G$7:$G$126)+SUMIF($B$7:$B$126,C144,$F$7:$F$126)+SUMIF($B$7:$B$126,C144,$E$7:$E$126) -> 0
C145: 14 | D145: =SUMIF($B$7:$B$126,C145,$G$7:$G$126)+SUMIF($B$7:$B$126,C145,$F$7:$F$126)+SUMIF($B$7:$B$126,C145,$E$7:$E$126) -> 0
C146: 15 | D146: =SUMIF($B$7:$B$126,C146,$G$7:$G$126)+SUMIF($B$7:$B$126,C146,$F$7:$F$126)+SUMIF($B$7:$B$126,C146,$E$7:$E$126) -> 0
C147: 16 | D147: =SUMIF($B$7:$B$126,C147,$G$7:$G$126)+SUMIF($B$7:$B$126,C147,$F$7:$F$126)+SUMIF($B$7:$B$126,C147,$E$7:$E$126) -> 0
C148: 17 | D148: =SUMIF($B$7:$B$126,C148,$G$7:$G$126)+SUMIF($B$7:$B$126,C148,$F$7:$F$126)+SUMIF($B$7:$B$126,C148,$E$7:$E$126) -> 0
... C162: 31 | D162: =SUMIF($B$7:$B$126,C162,$G$7:$G$126)+SUMIF($B$7:$B$126,C162,$F$7:$F$126)+SUMIF($B$7:$B$126,C162,$E$7:$E$126) -> 0

Sheet tijdsregist 07 2026
A3: Voor de berekening van de totale loonkosten is een tijdsregistratie uitgedrukt in werkuren nodig. De wettelijke maxima bedragen 11 uren per dag en 50 uren per week. Overuren zijn niet subsidiabel.
A5: Omschrijving werkzaamheden per activiteit invullen | B5: dag | C5: maand | D5: jaartal | E5: gewerkte uren Project1 (formaat uu:mm) | F5: gewerkte uren Project2(formaat uu:mm) | G5: gewerkte uren Project3 (formaat uu:mm)
A6: Projectnaam:
B7: 1 | C7: 7 | D7: 2026 | E7: 0 | F7: 0 | G7: 0 | H7: =DATE(D7,C7,B7) -> 46204 | I7: =WEEKNUM(H7,21) -> 27
B8: 1 | C8: 7 | D8: 2026 | E8: 0 | F8: 0 | G8: 0 | H8: =DATE(D8,C8,B8) -> 46204 | I8: =WEEKNUM(H8,2) -> 27
B9: 1 | C9: 7 | D9: 2026 | E9: 0 | F9: 0 | G9: 0 | H9: =DATE(D9,C9,B9) -> 46204 | I9: =WEEKNUM(H9,2) -> 27
B10: 1 | C10: 7 | D10: 2026 | E10: 0 | F10: 0 | G10: 0 | H10: =DATE(D10,C10,B10) -> 46204 | I10: =WEEKNUM(H10,2) -> 27
B11: 2 | C11: 7 | D11: 2026 | E11: 0 | F11: 0 | G11: 0 | H11: =DATE(D11,C11,B11) -> 46205 | I11: =WEEKNUM(H11,2) -> 27
B12: 2 | C12: 7 | D12: 2026 | E12: 0 | F12: 0 | G12: 0 | H12: =DATE(D12,C12,B12) -> 46205 | I12: =WEEKNUM(H12,2) -> 27
B13: 2 | C13: 7 | D13: 2026 | E13: 0 | F13: 0 | G13: 0 | H13: =DATE(D13,C13,B13) -> 46205 | I13: =WEEKNUM(H13,2) -> 27
B14: 2 | C14: 7 | D14: 2026 | E14: 0 | F14: 0 | G14: 0 | H14: =DATE(D14,C14,B14) -> 46205 | I14: =WEEKNUM(H14,2) -> 27
B15: 3 | C15: 7 | D15: 2026 | E15: 0 | F15: 0 | G15: 0 | H15: =DATE(D15,C15,B15) -> 46206 | I15: =WEEKNUM(H15,2) -> 27
B16: 3 | C16: 7 | D16: 2026 | E16: 0 | F16: 0 | G16: 0 | H16: =DATE(D16,C16,B16) -> 46206 | I16: =WEEKNUM(H16,2) -> 27
B17: 3 | C17: 7 | D17: 2026 | E17: 0 | F17: 0 | G17: 0 | H17: =DATE(D17,C17,B17) -> 46206 | I17: =WEEKNUM(H17,2) -> 27
B18: 3 | C18: 7 | D18: 2026 | E18: 0 | F18: 0 | G18: 0 | H18: =DATE(D18,C18,B18) -> 46206 | I18: =WEEKNUM(H18,2) -> 27
B19: 4 | C19: 7 | D19: 2026 | E19: 0 | F19: 0 | G19: 0 | H19: =DATE(D19,C19,B19) -> 46207 | I19: =WEEKNUM(H19,2) -> 27
... B130: 31 | C130: 7 | D130: 2026 | E130: 0 | F130: 0 | G130: 0 | H130: =DATE(D130,C130,B130) -> 46234 | I130: =WEEKNUM(H130,2) -> 31
A131: Totaal aantal gewerkte uren voor deze maand | E131: =SUM(E7:E130) -> 0 | F131: =SUM(F7:F130) -> 0 | G131: =SUM(G7:G130) -> 0
A135: Controle maximale uren per week (50u/week) | C135: Controle maximale uren per dag
A136: =I7 -> 27 | B136: =SUMIF($I$7:$I$130,A136,$G$7:$G$130)+SUMIF($I$7:$I$130,A136,$F$7:$F$130)+SUMIF($I$7:$I$130,A136,$E$7:$E$130)+SUMIF('tijdsregist 06 2026'!I7:I126,'tijdsregist 07 2026'!A136,'tijdsregist 06 2026'!E7:E126)+SUMIF('tijdsregist 06 2026'!I7:I126,'tijdsregist 07 2026'!A136,'tijdsregist 06 2026'!F7:F126)+SUMIF('tijdsregist 06 2026'!I7:I126,'tijdsregist 07 2026'!A136,'tijdsregist 06 2026'!G7:G126) -> 0 | C136: 1 | D136: =SUMIF($B$7:$B$130,C136,$G$7:$G$130)+SUMIF($B$7:$B$130,C136,$F$7:$F$130)+SUMIF($B$7:$B$130,C136,$E$7:$E$130) -> 0
A137: =A136+1 -> 28 | B137: =SUMIF($I$7:$I$130,A137,$G$7:$G$130)+SUMIF($I$7:$I$130,A137,$F$7:$F$130)+SUMIF($I$7:$I$130,A137,$E$7:$E$130) -> 0 | C137: 2 | D137: =SUMIF($B$7:$B$130,C137,$G$7:$G$130)+SUMIF($B$7:$B$130,C137,$F$7:$F$130)+SUMIF($B$7:$B$130,C137,$E$7:$E$130) -> 0
A138: =A137+1 -> 29 | B138: =SUMIF($I$7:$I$130,A138,$G$7:$G$130)+SUMIF($I$7:$I$130,A138,$F$7:$F$130)+SUMIF($I$7:$I$130,A138,$E$7:$E$130) -> 0 | C138: 3 | D138: =SUMIF($B$7:$B$130,C138,$G$7:$G$130)+SUMIF($B$7:$B$130,C138,$F$7:$F$130)+SUMIF($B$7:$B$130,C138,$E$7:$E$130) -> 0
A139: =A138+1 -> 30 | B139: =SUMIF($I$7:$I$130,A139,$G$7:$G$130)+SUMIF($I$7:$I$130,A139,$F$7:$F$130)+SUMIF($I$7:$I$130,A139,$E$7:$E$130) -> 0 | C139: 4 | D139: =SUMIF($B$7:$B$130,C139,$G$7:$G$130)+SUMIF($B$7:$B$130,C139,$F$7:$F$130)+SUMIF($B$7:$B$130,C139,$E$7:$E$130) -> 0
A140: =A139+1 -> 31 | B140: =SUMIF($I$7:$I$130,A140,$G$7:$G$130)+SUMIF($I$7:$I$130,A140,$F$7:$F$130)+SUMIF($I$7:$I$130,A140,$E$7:$E$130)+SUMIF('tijdsregist 08 2026'!I7:I130,'tijdsregist 07 2026'!A140,'tijdsregist 08 2026'!E7:E130)+SUMIF('tijdsregist 08 2026'!I7:I130,'tijdsregist 07 2026'!A140,'tijdsregist 08 2026'!F7:F130)+SUMIF('tijdsregist 08 2026'!I7:I130,'tijdsregist 07 2026'!A140,'tijdsregist 08 2026'!G7:G130) -> 0 | C140: 5 | D140: =SUMIF($B$7:$B$130,C140,$G$7:$G$130)+SUMIF($B$7:$B$130,C140,$F$7:$F$130)+SUMIF($B$7:$B$130,C140,$E$7:$E$130) -> 0
C141: 6 | D141: =SUMIF($B$7:$B$130,C141,$G$7:$G$130)+SUMIF($B$7:$B$130,C141,$F$7:$F$130)+SUMIF($B$7:$B$130,C141,$E$7:$E$130) -> 0
C142: 7 | D142: =SUMIF($B$7:$B$130,C142,$G$7:$G$130)+SUMIF($B$7:$B$130,C142,$F$7:$F$130)+SUMIF($B$7:$B$130,C142,$E$7:$E$130) -> 0
C143: 8 | D143: =SUMIF($B$7:$B$130,C143,$G$7:$G$130)+SUMIF($B$7:$B$130,C143,$F$7:$F$130)+SUMIF($B$7:$B$130,C143,$E$7:$E$130) -> 0
C144: 9 | D144: =SUMIF($B$7:$B$130,C144,$G$7:$G$130)+SUMIF($B$7:$B$130,C144,$F$7:$F$130)+SUMIF($B$7:$B$130,C144,$E$7:$E$130) -> 0
C145: 10 | D145: =SUMIF($B$7:$B$130,C145,$G$7:$G$130)+SUMIF($B$7:$B$130,C145,$F$7:$F$130)+SUMIF($B$7:$B$130,C145,$E$7:$E$130) -> 0
C146: 11 | D146: =SUMIF($B$7:$B$130,C146,$G$7:$G$130)+SUMIF($B$7:$B$130,C146,$F$7:$F$130)+SUMIF($B$7:$B$130,C146,$E$7:$E$130) -> 0
C147: 12 | D147: =SUMIF($B$7:$B$130,C147,$G$7:$G$130)+SUMIF($B$7:$B$130,C147,$F$7:$F$130)+SUMIF($B$7:$B$130,C147,$E$7:$E$130) -> 0
C148: 13 | D148: =SUMIF($B$7:$B$130,C148,$G$7:$G$130)+SUMIF($B$7:$B$130,C148,$F$7:$F$130)+SUMIF($B$7:$B$130,C148,$E$7:$E$130) -> 0
C149: 14 | D149: =SUMIF($B$7:$B$130,C149,$G$7:$G$130)+SUMIF($B$7:$B$130,C149,$F$7:$F$130)+SUMIF($B$7:$B$130,C149,$E$7:$E$130) -> 0
C150: 15 | D150: =SUMIF($B$7:$B$130,C150,$G$7:$G$130)+SUMIF($B$7:$B$130,C150,$F$7:$F$130)+SUMIF($B$7:$B$130,C150,$E$7:$E$130) -> 0
C151: 16 | D151: =SUMIF($B$7:$B$130,C151,$G$7:$G$130)+SUMIF($B$7:$B$130,C151,$F$7:$F$130)+SUMIF($B$7:$B$130,C151,$E$7:$E$130) -> 0
C152: 17 | D152: =SUMIF($B$7:$B$130,C152,$G$7:$G$130)+SUMIF($B$7:$B$130,C152,$F$7:$F$130)+SUMIF($B$7:$B$130,C152,$E$7:$E$130) -> 0
... C166: 31 | D166: =SUMIF($B$7:$B$130,C166,$G$7:$G$130)+SUMIF($B$7:$B$130,C166,$F$7:$F$130)+SUMIF($B$7:$B$130,C166,$E$7:$E$130) -> 0

Sheet tijdsregist 08 2026
A3: Voor de berekening van de totale loonkosten is een tijdsregistratie uitgedrukt in werkuren nodig. De wettelijke maxima bedragen 11 uren per dag en 50 uren per week. Overuren zijn niet subsidiabel.
A5: Omschrijving werkzaamheden per activiteit invullen | B5: dag | C5: maand | D5: jaartal | E5: gewerkte uren Project1 (formaat uu:mm) | F5: gewerkte uren Project2(formaat uu:mm) | G5: gewerkte uren Project3 (formaat uu:mm)
A6: Projectnaam:
B7: 1 | C7: 8 | D7: 2026 | E7: 0 | F7: 0 | G7: 0 | H7: =DATE(D7,C7,B7) -> 46235 | I7: =WEEKNUM(H7,21) -> 31
B8: 1 | C8: 8 | D8: 2026 | E8: 0 | F8: 0 | G8: 0 | H8: =DATE(D8,C8,B8) -> 46235 | I8: =WEEKNUM(H8,2) -> 31
B9: 1 | C9: 8 | D9: 2026 | E9: 0 | F9: 0 | G9: 0 | H9: =DATE(D9,C9,B9) -> 46235 | I9: =WEEKNUM(H9,2) -> 31
B10: 1 | C10: 8 | D10: 2026 | E10: 0 | F10: 0 | G10: 0 | H10: =DATE(D10,C10,B10) -> 46235 | I10: =WEEKNUM(H10,2) -> 31
B11: 2 | C11: 8 | D11: 2026 | E11: 0 | F11: 0 | G11: 0 | H11: =DATE(D11,C11,B11) -> 46236 | I11: =WEEKNUM(H11,2) -> 31
B12: 2 | C12: 8 | D12: 2026 | E12: 0 | F12: 0 | G12: 0 | H12: =DATE(D12,C12,B12) -> 46236 | I12: =WEEKNUM(H12,2) -> 31
B13: 2 | C13: 8 | D13: 2026 | E13: 0 | F13: 0 | G13: 0 | H13: =DATE(D13,C13,B13) -> 46236 | I13: =WEEKNUM(H13,2) -> 31
B14: 2 | C14: 8 | D14: 2026 | E14: 0 | F14: 0 | G14: 0 | H14: =DATE(D14,C14,B14) -> 46236 | I14: =WEEKNUM(H14,2) -> 31
B15: 3 | C15: 8 | D15: 2026 | E15: 0 | F15: 0 | G15: 0 | H15: =DATE(D15,C15,B15) -> 46237 | I15: =WEEKNUM(H15,2) -> 32
B16: 3 | C16: 8 | D16: 2026 | E16: 0 | F16: 0 | G16: 0 | H16: =DATE(D16,C16,B16) -> 46237 | I16: =WEEKNUM(H16,2) -> 32
B17: 3 | C17: 8 | D17: 2026 | E17: 0 | F17: 0 | G17: 0 | H17: =DATE(D17,C17,B17) -> 46237 | I17: =WEEKNUM(H17,2) -> 32
B18: 3 | C18: 8 | D18: 2026 | E18: 0 | F18: 0 | G18: 0 | H18: =DATE(D18,C18,B18) -> 46237 | I18: =WEEKNUM(H18,2) -> 32
B19: 4 | C19: 8 | D19: 2026 | E19: 0 | F19: 0 | G19: 0 | H19: =DATE(D19,C19,B19) -> 46238 | I19: =WEEKNUM(H19,2) -> 32
... B130: 31 | C130: 8 | D130: 2026 | E130: 0 | F130: 0 | G130: 0 | H130: =DATE(D130,C130,B130) -> 46265 | I130: =WEEKNUM(H130,2) -> 36
A131: Totaal aantal gewerkte uren voor deze maand | E131: =SUM(E7:E130) -> 0 | F131: =SUM(F7:F130) -> 0 | G131: =SUM(G7:G130) -> 0
A135: Controle maximale uren per week (50u/week) | C135: Controle maximale uren per dag
A136: =I7 -> 31 | B136: =SUMIF($I$7:$I$130,A136,$G$7:$G$130)+SUMIF($I$7:$I$130,A136,$F$7:$F$130)+SUMIF($I$7:$I$130,A136,$E$7:$E$130)+SUMIF('tijdsregist 07 2026'!I7:I130,'tijdsregist 08 2026'!A136,'tijdsregist 07 2026'!E7:E130)+SUMIF('tijdsregist 07 2026'!I7:I130,'tijdsregist 08 2026'!A136,'tijdsregist 07 2026'!F7:F130)+SUMIF('tijdsregist 07 2026'!I7:I130,'tijdsregist 08 2026'!A136,'tijdsregist 07 2026'!G7:G130) -> 0 | C136: 1 | D136: =SUMIF($B$7:$B$130,C136,$G$7:$G$130)+SUMIF($B$7:$B$130,C136,$F$7:$F$130)+SUMIF($B$7:$B$130,C136,$E$7:$E$130) -> 0
A137: =A136+1 -> 32 | B137: =SUMIF($I$7:$I$130,A137,$G$7:$G$130)+SUMIF($I$7:$I$130,A137,$F$7:$F$130)+SUMIF($I$7:$I$130,A137,$E$7:$E$130) -> 0 | C137: 2 | D137: =SUMIF($B$7:$B$130,C137,$G$7:$G$130)+SUMIF($B$7:$B$130,C137,$F$7:$F$130)+SUMIF($B$7:$B$130,C137,$E$7:$E$130) -> 0
A138: =A137+1 -> 33 | B138: =SUMIF($I$7:$I$130,A138,$G$7:$G$130)+SUMIF($I$7:$I$130,A138,$F$7:$F$130)+SUMIF($I$7:$I$130,A138,$E$7:$E$130) -> 0 | C138: 3 | D138: =SUMIF($B$7:$B$130,C138,$G$7:$G$130)+SUMIF($B$7:$B$130,C138,$F$7:$F$130)+SUMIF($B$7:$B$130,C138,$E$7:$E$130) -> 0
A139: =A138+1 -> 34 | B139: =SUMIF($I$7:$I$130,A139,$G$7:$G$130)+SUMIF($I$7:$I$130,A139,$F$7:$F$130)+SUMIF($I$7:$I$130,A139,$E$7:$E$130) -> 0 | C139: 4 | D139: =SUMIF($B$7:$B$130,C139,$G$7:$G$130)+SUMIF($B$7:$B$130,C139,$F$7:$F$130)+SUMIF($B$7:$B$130,C139,$E$7:$E$130) -> 0
A140: =A139+1 -> 35 | B140: =SUMIF($I$7:$I$130,A140,$G$7:$G$130)+SUMIF($I$7:$I$130,A140,$F$7:$F$130)+SUMIF($I$7:$I$130,A140,$E$7:$E$130) -> 0 | C140: 5 | D140: =SUMIF($B$7:$B$130,C140,$G$7:$G$130)+SUMIF($B$7:$B$130,C140,$F$7:$F$130)+SUMIF($B$7:$B$130,C140,$E$7:$E$130) -> 0
A141: 36 | B141: =SUMIF($I$7:$I$130,A141,$G$7:$G$130)+SUMIF($I$7:$I$130,A141,$F$7:$F$130)+SUMIF($I$7:$I$130,A141,$E$7:$E$130)+SUMIF('tijdsregist 09 2026'!I7:I126,'tijdsregist 08 2026'!A141,'tijdsregist 09 2026'!E7:E126)+SUMIF('tijdsregist 09 2026'!I7:I126,'tijdsregist 08 2026'!A141,'tijdsregist 09 2026'!F7:F126)+SUMIF('tijdsregist 09 2026'!I7:I126,'tijdsregist 08 2026'!A141,'tijdsregist 09 2026'!G7:G126) -> 0 | C141: 6 | D141: =SUMIF($B$7:$B$130,C141,$G$7:$G$130)+SUMIF($B$7:$B$130,C141,$F$7:$F$130)+SUMIF($B$7:$B$130,C141,$E$7:$E$130) -> 0
C142: 7 | D142: =SUMIF($B$7:$B$130,C142,$G$7:$G$130)+SUMIF($B$7:$B$130,C142,$F$7:$F$130)+SUMIF($B$7:$B$130,C142,$E$7:$E$130) -> 0
C143: 8 | D143: =SUMIF($B$7:$B$130,C143,$G$7:$G$130)+SUMIF($B$7:$B$130,C143,$F$7:$F$130)+SUMIF($B$7:$B$130,C143,$E$7:$E$130) -> 0
C144: 9 | D144: =SUMIF($B$7:$B$130,C144,$G$7:$G$130)+SUMIF($B$7:$B$130,C144,$F$7:$F$130)+SUMIF($B$7:$B$130,C144,$E$7:$E$130) -> 0
C145: 10 | D145: =SUMIF($B$7:$B$130,C145,$G$7:$G$130)+SUMIF($B$7:$B$130,C145,$F$7:$F$130)+SUMIF($B$7:$B$130,C145,$E$7:$E$130) -> 0
C146: 11 | D146: =SUMIF($B$7:$B$130,C146,$G$7:$G$130)+SUMIF($B$7:$B$130,C146,$F$7:$F$130)+SUMIF($B$7:$B$130,C146,$E$7:$E$130) -> 0
C147: 12 | D147: =SUMIF($B$7:$B$130,C147,$G$7:$G$130)+SUMIF($B$7:$B$130,C147,$F$7:$F$130)+SUMIF($B$7:$B$130,C147,$E$7:$E$130) -> 0
C148: 13 | D148: =SUMIF($B$7:$B$130,C148,$G$7:$G$130)+SUMIF($B$7:$B$130,C148,$F$7:$F$130)+SUMIF($B$7:$B$130,C148,$E$7:$E$130) -> 0
C149: 14 | D149: =SUMIF($B$7:$B$130,C149,$G$7:$G$130)+SUMIF($B$7:$B$130,C149,$F$7:$F$130)+SUMIF($B$7:$B$130,C149,$E$7:$E$130) -> 0
C150: 15 | D150: =SUMIF($B$7:$B$130,C150,$G$7:$G$130)+SUMIF($B$7:$B$130,C150,$F$7:$F$130)+SUMIF($B$7:$B$130,C150,$E$7:$E$130) -> 0
C151: 16 | D151: =SUMIF($B$7:$B$130,C151,$G$7:$G$130)+SUMIF($B$7:$B$130,C151,$F$7:$F$130)+SUMIF($B$7:$B$130,C151,$E$7:$E$130) -> 0
C152: 17 | D152: =SUMIF($B$7:$B$130,C152,$G$7:$G$130)+SUMIF($B$7:$B$130,C152,$F$7:$F$130)+SUMIF($B$7:$B$130,C152,$E$7:$E$130) -> 0
C153: 18 | D153: =SUMIF($B$7:$B$130,C153,$G$7:$G$130)+SUMIF($B$7:$B$130,C153,$F$7:$F$130)+SUMIF($B$7:$B$130,C153,$E$7:$E$130) -> 0
